BEGIN:VCALENDAR
VERSION:2.0
PRODID:-//Unser Dodendorf - ECPv6.15.14//NONSGML v1.0//EN
CALSCALE:GREGORIAN
METHOD:PUBLISH
X-WR-CALNAME:Unser Dodendorf
X-ORIGINAL-URL:https://unser-dodendorf.de
X-WR-CALDESC:Veranstaltungen für Unser Dodendorf
REFRESH-INTERVAL;VALUE=DURATION:PT1H
X-Robots-Tag:noindex
X-PUBLISHED-TTL:PT1H
BEGIN:VTIMEZONE
TZID:Europe/Berlin
BEGIN:DAYLIGHT
TZOFFSETFROM:+0100
TZOFFSETTO:+0200
TZNAME:CEST
DTSTART:20250330T010000
END:DAYLIGHT
BEGIN:STANDARD
TZOFFSETFROM:+0200
TZOFFSETTO:+0100
TZNAME:CET
DTSTART:20251026T010000
END:STANDARD
BEGIN:DAYLIGHT
TZOFFSETFROM:+0100
TZOFFSETTO:+0200
TZNAME:CEST
DTSTART:20260329T010000
END:DAYLIGHT
BEGIN:STANDARD
TZOFFSETFROM:+0200
TZOFFSETTO:+0100
TZNAME:CET
DTSTART:20261025T010000
END:STANDARD
BEGIN:DAYLIGHT
TZOFFSETFROM:+0100
TZOFFSETTO:+0200
TZNAME:CEST
DTSTART:20270328T010000
END:DAYLIGHT
BEGIN:STANDARD
TZOFFSETFROM:+0200
TZOFFSETTO:+0100
TZNAME:CET
DTSTART:20271031T010000
END:STANDARD
END:VTIMEZONE
BEGIN:VEVENT
DTSTART;TZID=Europe/Berlin:20260417T180000
DTEND;TZID=Europe/Berlin:20260417T220000
DTSTAMP:20260421T154201
CREATED:20231128T090333Z
LAST-MODIFIED:20251227T173540Z
UID:2349-1776448800-1776463200@unser-dodendorf.de
SUMMARY:DHV - Mitgliederversammlung
DESCRIPTION:Dodendorfer Heimatverein e.V.
URL:https://unser-dodendorf.de/veranstaltungen/mitgliederversammlung/
LOCATION:Sport- und Vereinsheim\, Sportplatz\, Dodendorf\, Sachsen-Anhalt\, 39171
CATEGORIES:Veranstaltungen
ORGANIZER;CN="Dodendorfer Heimatverein e.V.":MAILTO:heimatverein-dodendorf-ev@web.de
END:VEVENT
BEGIN:VEVENT
DTSTART;TZID=Europe/Berlin:20260417T180000
DTEND;TZID=Europe/Berlin:20260417T190000
DTSTAMP:20260421T154201
CREATED:20240121T190118Z
LAST-MODIFIED:20251227T163041Z
UID:3009-1776448800-1776452400@unser-dodendorf.de
SUMMARY:Kaninchenverein - Sitzung
DESCRIPTION:
URL:https://unser-dodendorf.de/veranstaltungen/kaninchenverein-sitzung-4/
LOCATION:Sportplatz Dodendorf\, Sportplatz\, Sülzetal/Dodendorf\, Sachsen-Anhalt\, 39171
CATEGORIES:Vereinskalender
END:VEVENT
BEGIN:VEVENT
DTSTART;TZID=Europe/Berlin:20260416T180000
DTEND;TZID=Europe/Berlin:20260416T190000
DTSTAMP:20260421T154201
CREATED:20240110T083837Z
LAST-MODIFIED:20251227T161010Z
UID:2687-1776362400-1776366000@unser-dodendorf.de
SUMMARY:Tischtennis
DESCRIPTION:
URL:https://unser-dodendorf.de/veranstaltungen/tischtennis-15/
LOCATION:Sport- und Vereinsheim\, Sportplatz\, Dodendorf\, Sachsen-Anhalt\, 39171
CATEGORIES:Vereinskalender
END:VEVENT
BEGIN:VEVENT
DTSTART;TZID=Europe/Berlin:20260416T140000
DTEND;TZID=Europe/Berlin:20260416T160000
DTSTAMP:20260421T154201
CREATED:20240110T083538Z
LAST-MODIFIED:20251227T154615Z
UID:2679-1776348000-1776355200@unser-dodendorf.de
SUMMARY:Kegeln
DESCRIPTION:
URL:https://unser-dodendorf.de/veranstaltungen/kegeln-15/
LOCATION:Sportplatz Dodendorf\, Sportplatz\, Sülzetal/Dodendorf\, Sachsen-Anhalt\, 39171
CATEGORIES:Vereinskalender
END:VEVENT
BEGIN:VEVENT
DTSTART;VALUE=DATE:20260416
DTEND;VALUE=DATE:20260419
DTSTAMP:20260421T154201
CREATED:20251228T100115Z
LAST-MODIFIED:20251228T100115Z
UID:3824-1776297600-1776556799@unser-dodendorf.de
SUMMARY:Raumblocker Sportlerheim
DESCRIPTION:
URL:https://unser-dodendorf.de/veranstaltungen/raumblocker-sportlerheim-82/
LOCATION:Sport- und Vereinsheim\, Sportplatz\, Dodendorf\, Sachsen-Anhalt\, 39171
CATEGORIES:Vereinskalender
END:VEVENT
BEGIN:VEVENT
DTSTART;TZID=Europe/Berlin:20260414T170000
DTEND;TZID=Europe/Berlin:20260414T190000
DTSTAMP:20260421T154201
CREATED:20240110T075426Z
LAST-MODIFIED:20251228T103800Z
UID:2645-1776186000-1776193200@unser-dodendorf.de
SUMMARY:Jugendtreff Dodendorf
DESCRIPTION:Altersgruppe 10-18 Jahren
URL:https://unser-dodendorf.de/veranstaltungen/jugendtreff-dodendorf-15/
LOCATION:Sport- und Vereinsheim\, Sportplatz\, Dodendorf\, Sachsen-Anhalt\, 39171
CATEGORIES:Vereinskalender
ORGANIZER;CN="Dodendorfer Heimatverein e.V.":MAILTO:heimatverein-dodendorf-ev@web.de
END:VEVENT
BEGIN:VEVENT
DTSTART;VALUE=DATE:20260410
DTEND;VALUE=DATE:20260413
DTSTAMP:20260421T154201
CREATED:20251228T100035Z
LAST-MODIFIED:20251228T100035Z
UID:3822-1775779200-1776038399@unser-dodendorf.de
SUMMARY:Raumblocker Sportlerheim
DESCRIPTION:
URL:https://unser-dodendorf.de/veranstaltungen/raumblocker-sportlerheim-81/
LOCATION:Sport- und Vereinsheim\, Sportplatz\, Dodendorf\, Sachsen-Anhalt\, 39171
CATEGORIES:Vereinskalender
END:VEVENT
BEGIN:VEVENT
DTSTART;TZID=Europe/Berlin:20260409T180000
DTEND;TZID=Europe/Berlin:20260409T190000
DTSTAMP:20260421T154201
CREATED:20240110T083804Z
LAST-MODIFIED:20251227T161001Z
UID:2685-1775757600-1775761200@unser-dodendorf.de
SUMMARY:Tischtennis
DESCRIPTION:
URL:https://unser-dodendorf.de/veranstaltungen/tischtennis-14/
LOCATION:Sport- und Vereinsheim\, Sportplatz\, Dodendorf\, Sachsen-Anhalt\, 39171
CATEGORIES:Vereinskalender
END:VEVENT
BEGIN:VEVENT
DTSTART;TZID=Europe/Berlin:20260409T140000
DTEND;TZID=Europe/Berlin:20260409T160000
DTSTAMP:20260421T154201
CREATED:20240110T083506Z
LAST-MODIFIED:20251227T154605Z
UID:2677-1775743200-1775750400@unser-dodendorf.de
SUMMARY:Kegeln
DESCRIPTION:
URL:https://unser-dodendorf.de/veranstaltungen/kegeln-14/
LOCATION:Sportplatz Dodendorf\, Sportplatz\, Sülzetal/Dodendorf\, Sachsen-Anhalt\, 39171
CATEGORIES:Vereinskalender
END:VEVENT
BEGIN:VEVENT
DTSTART;TZID=Europe/Berlin:20260408T140000
DTEND;TZID=Europe/Berlin:20260408T170000
DTSTAMP:20260421T154201
CREATED:20240107T082707Z
LAST-MODIFIED:20251227T165251Z
UID:2410-1775656800-1775667600@unser-dodendorf.de
SUMMARY:Volkssolidarität
DESCRIPTION:
URL:https://unser-dodendorf.de/veranstaltungen/volkssolidaritaet/
LOCATION:Sport- und Vereinsheim\, Sportplatz\, Dodendorf\, Sachsen-Anhalt\, 39171
CATEGORIES:Vereinskalender
END:VEVENT
BEGIN:VEVENT
DTSTART;TZID=Europe/Berlin:20260407T170000
DTEND;TZID=Europe/Berlin:20260407T190000
DTSTAMP:20260421T154201
CREATED:20240110T075257Z
LAST-MODIFIED:20251228T103750Z
UID:2643-1775581200-1775588400@unser-dodendorf.de
SUMMARY:Jugendtreff Dodendorf
DESCRIPTION:Altersgruppe 10-18 Jahren
URL:https://unser-dodendorf.de/veranstaltungen/jugendtreff-dodendorf-14/
LOCATION:Sport- und Vereinsheim\, Sportplatz\, Dodendorf\, Sachsen-Anhalt\, 39171
CATEGORIES:Vereinskalender
ORGANIZER;CN="Dodendorfer Heimatverein e.V.":MAILTO:heimatverein-dodendorf-ev@web.de
END:VEVENT
BEGIN:VEVENT
DTSTART;TZID=Europe/Berlin:20260402T180000
DTEND;TZID=Europe/Berlin:20260402T190000
DTSTAMP:20260421T154201
CREATED:20240110T083736Z
LAST-MODIFIED:20251227T160505Z
UID:2683-1775152800-1775156400@unser-dodendorf.de
SUMMARY:Tischtennis
DESCRIPTION:
URL:https://unser-dodendorf.de/veranstaltungen/tischtennis-13/
LOCATION:Sport- und Vereinsheim\, Sportplatz\, Dodendorf\, Sachsen-Anhalt\, 39171
CATEGORIES:Vereinskalender
END:VEVENT
BEGIN:VEVENT
DTSTART;TZID=Europe/Berlin:20260402T170000
DTEND;TZID=Europe/Berlin:20260402T230000
DTSTAMP:20260421T154201
CREATED:20231020T191117Z
LAST-MODIFIED:20251228T095856Z
UID:2300-1775149200-1775170800@unser-dodendorf.de
SUMMARY:Osterfeuer
DESCRIPTION:
URL:https://unser-dodendorf.de/veranstaltungen/osterfeuer/
LOCATION:Sportplatz Dodendorf\, Sportplatz\, Sülzetal/Dodendorf\, Sachsen-Anhalt\, 39171
CATEGORIES:Veranstaltungen
ORGANIZER;CN="Dodendorfer Heimatverein e.V.":MAILTO:heimatverein-dodendorf-ev@web.de
END:VEVENT
BEGIN:VEVENT
DTSTART;TZID=Europe/Berlin:20260402T140000
DTEND;TZID=Europe/Berlin:20260402T160000
DTSTAMP:20260421T154201
CREATED:20240110T083440Z
LAST-MODIFIED:20251227T154556Z
UID:2675-1775138400-1775145600@unser-dodendorf.de
SUMMARY:Kegeln
DESCRIPTION:
URL:https://unser-dodendorf.de/veranstaltungen/kegeln-13/
LOCATION:Sportplatz Dodendorf\, Sportplatz\, Sülzetal/Dodendorf\, Sachsen-Anhalt\, 39171
CATEGORIES:Vereinskalender
END:VEVENT
BEGIN:VEVENT
DTSTART;VALUE=DATE:20260401
DTEND;VALUE=DATE:20260404
DTSTAMP:20260421T154201
CREATED:20251228T095937Z
LAST-MODIFIED:20251228T095937Z
UID:3820-1775001600-1775260799@unser-dodendorf.de
SUMMARY:Raumblocker Sportlerheim
DESCRIPTION:
URL:https://unser-dodendorf.de/veranstaltungen/raumblocker-sportlerheim-80/
LOCATION:Sport- und Vereinsheim\, Sportplatz\, Dodendorf\, Sachsen-Anhalt\, 39171
CATEGORIES:Vereinskalender
END:VEVENT
BEGIN:VEVENT
DTSTART;TZID=Europe/Berlin:20260331T170000
DTEND;TZID=Europe/Berlin:20260331T190000
DTSTAMP:20260421T154201
CREATED:20240110T075223Z
LAST-MODIFIED:20251228T103741Z
UID:2641-1774976400-1774983600@unser-dodendorf.de
SUMMARY:Jugendtreff Dodendorf
DESCRIPTION:Altersgruppe 10-18 Jahren
URL:https://unser-dodendorf.de/veranstaltungen/jugendtreff-dodendorf-13/
LOCATION:Sport- und Vereinsheim\, Sportplatz\, Dodendorf\, Sachsen-Anhalt\, 39171
CATEGORIES:Vereinskalender
ORGANIZER;CN="Dodendorfer Heimatverein e.V.":MAILTO:heimatverein-dodendorf-ev@web.de
END:VEVENT
BEGIN:VEVENT
DTSTART;TZID=Europe/Berlin:20260327T090000
DTEND;TZID=Europe/Berlin:20260327T160000
DTSTAMP:20260421T154201
CREATED:20240107T080203Z
LAST-MODIFIED:20251227T160031Z
UID:2404-1774602000-1774627200@unser-dodendorf.de
SUMMARY:Arbeitseinsatz
DESCRIPTION:genauer Treffpunkt wird noch bekanntgegeben \n 
URL:https://unser-dodendorf.de/veranstaltungen/arbeitseinsatz/
LOCATION:Sportplatz Dodendorf\, Sportplatz\, Sülzetal/Dodendorf\, Sachsen-Anhalt\, 39171
CATEGORIES:Veranstaltungen
ORGANIZER;CN="Dodendorfer Heimatverein e.V.":MAILTO:heimatverein-dodendorf-ev@web.de
END:VEVENT
BEGIN:VEVENT
DTSTART;VALUE=DATE:20260327
DTEND;VALUE=DATE:20260330
DTSTAMP:20260421T154201
CREATED:20250819T055659Z
LAST-MODIFIED:20250819T055659Z
UID:3747-1774569600-1774828799@unser-dodendorf.de
SUMMARY:Raumblocker Sportlerheim
DESCRIPTION:
URL:https://unser-dodendorf.de/veranstaltungen/raumblocker-sportlerheim-63/
LOCATION:Sport- und Vereinsheim\, Sportplatz\, Dodendorf\, Sachsen-Anhalt\, 39171
CATEGORIES:Vereinskalender
END:VEVENT
BEGIN:VEVENT
DTSTART;TZID=Europe/Berlin:20260326T180000
DTEND;TZID=Europe/Berlin:20260326T190000
DTSTAMP:20260421T154201
CREATED:20240109T065624Z
LAST-MODIFIED:20251227T160455Z
UID:2609-1774548000-1774551600@unser-dodendorf.de
SUMMARY:Tischtennis
DESCRIPTION:
URL:https://unser-dodendorf.de/veranstaltungen/tischtennis-9/
LOCATION:Sport- und Vereinsheim\, Sportplatz\, Dodendorf\, Sachsen-Anhalt\, 39171
CATEGORIES:Vereinskalender
END:VEVENT
BEGIN:VEVENT
DTSTART;TZID=Europe/Berlin:20260326T140000
DTEND;TZID=Europe/Berlin:20260326T160000
DTSTAMP:20260421T154201
CREATED:20240109T065503Z
LAST-MODIFIED:20251227T154531Z
UID:2605-1774533600-1774540800@unser-dodendorf.de
SUMMARY:Kegeln
DESCRIPTION:
URL:https://unser-dodendorf.de/veranstaltungen/kegeln-11/
LOCATION:Sportplatz Dodendorf\, Sportplatz\, Sülzetal/Dodendorf\, Sachsen-Anhalt\, 39171
CATEGORIES:Vereinskalender
END:VEVENT
BEGIN:VEVENT
DTSTART;TZID=Europe/Berlin:20260324T170000
DTEND;TZID=Europe/Berlin:20260324T180000
DTSTAMP:20260421T154201
CREATED:20240109T064312Z
LAST-MODIFIED:20251228T103726Z
UID:2573-1774371600-1774375200@unser-dodendorf.de
SUMMARY:Jugendtreff Dodendorf
DESCRIPTION:Altersgruppe 10-18 Jahre
URL:https://unser-dodendorf.de/veranstaltungen/jugendtreff-dodendorf-12/
LOCATION:Sport- und Vereinsheim\, Sportplatz\, Dodendorf\, Sachsen-Anhalt\, 39171
CATEGORIES:Vereinskalender
ORGANIZER;CN="Dodendorfer Heimatverein e.V.":MAILTO:heimatverein-dodendorf-ev@web.de
END:VEVENT
BEGIN:VEVENT
DTSTART;TZID=Europe/Berlin:20260322T100000
DTEND;TZID=Europe/Berlin:20260322T130000
DTSTAMP:20260421T154201
CREATED:20240310T153011Z
LAST-MODIFIED:20260316T114030Z
UID:3385-1774173600-1774184400@unser-dodendorf.de
SUMMARY:Dodendorfer Sportverein (DSV) e.V. - Mitgliederversammlung
DESCRIPTION:
URL:https://unser-dodendorf.de/veranstaltungen/dodendorfer-sv-e-v-mitgliederversammlung/
LOCATION:Sport- und Vereinsheim\, Sportplatz\, Dodendorf\, Sachsen-Anhalt\, 39171
CATEGORIES:Veranstaltungen,Vereinskalender
END:VEVENT
BEGIN:VEVENT
DTSTART;TZID=Europe/Berlin:20260320T180000
DTEND;TZID=Europe/Berlin:20260320T190000
DTSTAMP:20260421T154201
CREATED:20251227T163001Z
LAST-MODIFIED:20251227T164002Z
UID:3796-1774029600-1774033200@unser-dodendorf.de
SUMMARY:Kaninchenverein - Sitzung
DESCRIPTION:
URL:https://unser-dodendorf.de/veranstaltungen/kaninchenverein-sitzung-3/
LOCATION:Sportplatz Dodendorf\, Sportplatz\, Sülzetal/Dodendorf\, Sachsen-Anhalt\, 39171
CATEGORIES:Vereinskalender
END:VEVENT
BEGIN:VEVENT
DTSTART;TZID=Europe/Berlin:20260319T180000
DTEND;TZID=Europe/Berlin:20260319T190000
DTSTAMP:20260421T154201
CREATED:20240109T065718Z
LAST-MODIFIED:20251227T160444Z
UID:2613-1773943200-1773946800@unser-dodendorf.de
SUMMARY:Tischtennis
DESCRIPTION:
URL:https://unser-dodendorf.de/veranstaltungen/tischtennis-11/
LOCATION:Sport- und Vereinsheim\, Sportplatz\, Dodendorf\, Sachsen-Anhalt\, 39171
CATEGORIES:Vereinskalender
END:VEVENT
BEGIN:VEVENT
DTSTART;TZID=Europe/Berlin:20260319T140000
DTEND;TZID=Europe/Berlin:20260319T160000
DTSTAMP:20260421T154201
CREATED:20240109T065531Z
LAST-MODIFIED:20251227T154517Z
UID:2607-1773928800-1773936000@unser-dodendorf.de
SUMMARY:Kegeln
DESCRIPTION:
URL:https://unser-dodendorf.de/veranstaltungen/kegeln-12/
LOCATION:Sportplatz Dodendorf\, Sportplatz\, Sülzetal/Dodendorf\, Sachsen-Anhalt\, 39171
CATEGORIES:Vereinskalender
END:VEVENT
BEGIN:VEVENT
DTSTART;TZID=Europe/Berlin:20260317T170000
DTEND;TZID=Europe/Berlin:20260317T190000
DTSTAMP:20260421T154201
CREATED:20240109T064222Z
LAST-MODIFIED:20251228T103715Z
UID:2571-1773766800-1773774000@unser-dodendorf.de
SUMMARY:Jugendtreff Dodendorf
DESCRIPTION:Altersgruppe 10-18 Jahre
URL:https://unser-dodendorf.de/veranstaltungen/jugendtreff-dodendorf-11/
LOCATION:Sport- und Vereinsheim\, Sportplatz\, Dodendorf\, Sachsen-Anhalt\, 39171
CATEGORIES:Vereinskalender
ORGANIZER;CN="Dodendorfer Heimatverein e.V.":MAILTO:heimatverein-dodendorf-ev@web.de
END:VEVENT
BEGIN:VEVENT
DTSTART;TZID=Europe/Berlin:20260312T180000
DTEND;TZID=Europe/Berlin:20260312T190000
DTSTAMP:20260421T154201
CREATED:20240109T065744Z
LAST-MODIFIED:20251227T160434Z
UID:2615-1773338400-1773342000@unser-dodendorf.de
SUMMARY:Tischtennis
DESCRIPTION:
URL:https://unser-dodendorf.de/veranstaltungen/tischtennis-12/
LOCATION:Sport- und Vereinsheim\, Sportplatz\, Dodendorf\, Sachsen-Anhalt\, 39171
CATEGORIES:Vereinskalender
END:VEVENT
BEGIN:VEVENT
DTSTART;TZID=Europe/Berlin:20260312T140000
DTEND;TZID=Europe/Berlin:20260312T160000
DTSTAMP:20260421T154201
CREATED:20240109T065438Z
LAST-MODIFIED:20251227T154508Z
UID:2603-1773324000-1773331200@unser-dodendorf.de
SUMMARY:Kegeln
DESCRIPTION:
URL:https://unser-dodendorf.de/veranstaltungen/kegeln-10/
LOCATION:Sportplatz Dodendorf\, Sportplatz\, Sülzetal/Dodendorf\, Sachsen-Anhalt\, 39171
CATEGORIES:Vereinskalender
END:VEVENT
BEGIN:VEVENT
DTSTART;TZID=Europe/Berlin:20260311T140000
DTEND;TZID=Europe/Berlin:20260311T170000
DTSTAMP:20260421T154201
CREATED:20241218T092357Z
LAST-MODIFIED:20251227T165239Z
UID:3587-1773237600-1773248400@unser-dodendorf.de
SUMMARY:Volkssolidarität
DESCRIPTION:
URL:https://unser-dodendorf.de/veranstaltungen/volkssolidaritaet-12/
LOCATION:Sport- und Vereinsheim\, Sportplatz\, Dodendorf\, Sachsen-Anhalt\, 39171
CATEGORIES:Vereinskalender
END:VEVENT
BEGIN:VEVENT
DTSTART;TZID=Europe/Berlin:20260310T170000
DTEND;TZID=Europe/Berlin:20260310T190000
DTSTAMP:20260421T154201
CREATED:20240109T064142Z
LAST-MODIFIED:20251228T103707Z
UID:2569-1773162000-1773169200@unser-dodendorf.de
SUMMARY:Jugendtreff Dodendorf
DESCRIPTION:Altersgruppe 10-18 Jahre
URL:https://unser-dodendorf.de/veranstaltungen/jugendtreff-dodendorf-10/
LOCATION:Sport- und Vereinsheim\, Sportplatz\, Dodendorf\, Sachsen-Anhalt\, 39171
CATEGORIES:Vereinskalender
ORGANIZER;CN="Dodendorfer Heimatverein e.V.":MAILTO:heimatverein-dodendorf-ev@web.de
END:VEVENT
END:VCALENDAR