BEGIN:VCALENDAR
VERSION:2.0
PRODID:-//Unser Dodendorf - ECPv6.15.14//NONSGML v1.0//EN
CALSCALE:GREGORIAN
METHOD:PUBLISH
X-ORIGINAL-URL:https://unser-dodendorf.de
X-WR-CALDESC:Veranstaltungen für Unser Dodendorf
REFRESH-INTERVAL;VALUE=DURATION:PT1H
X-Robots-Tag:noindex
X-PUBLISHED-TTL:PT1H
BEGIN:VTIMEZONE
TZID:Europe/Berlin
BEGIN:DAYLIGHT
TZOFFSETFROM:+0100
TZOFFSETTO:+0200
TZNAME:CEST
DTSTART:20250330T010000
END:DAYLIGHT
BEGIN:STANDARD
TZOFFSETFROM:+0200
TZOFFSETTO:+0100
TZNAME:CET
DTSTART:20251026T010000
END:STANDARD
BEGIN:DAYLIGHT
TZOFFSETFROM:+0100
TZOFFSETTO:+0200
TZNAME:CEST
DTSTART:20260329T010000
END:DAYLIGHT
BEGIN:STANDARD
TZOFFSETFROM:+0200
TZOFFSETTO:+0100
TZNAME:CET
DTSTART:20261025T010000
END:STANDARD
BEGIN:DAYLIGHT
TZOFFSETFROM:+0100
TZOFFSETTO:+0200
TZNAME:CEST
DTSTART:20270328T010000
END:DAYLIGHT
BEGIN:STANDARD
TZOFFSETFROM:+0200
TZOFFSETTO:+0100
TZNAME:CET
DTSTART:20271031T010000
END:STANDARD
BEGIN:DAYLIGHT
TZOFFSETFROM:+0100
TZOFFSETTO:+0200
TZNAME:CEST
DTSTART:20280326T010000
END:DAYLIGHT
BEGIN:STANDARD
TZOFFSETFROM:+0200
TZOFFSETTO:+0100
TZNAME:CET
DTSTART:20281029T010000
END:STANDARD
END:VTIMEZONE
BEGIN:VEVENT
DTSTART;TZID=Europe/Berlin:20261203T140000
DTEND;TZID=Europe/Berlin:20261203T160000
DTSTAMP:20260422T062610
CREATED:20240126T073519Z
LAST-MODIFIED:20251227T155512Z
UID:3301-1796306400-1796313600@unser-dodendorf.de
SUMMARY:Kegeln
DESCRIPTION:
URL:https://unser-dodendorf.de/veranstaltungen/kegeln-48/
LOCATION:Sportplatz Dodendorf\, Sportplatz\, Sülzetal/Dodendorf\, Sachsen-Anhalt\, 39171
CATEGORIES:Vereinskalender
END:VEVENT
BEGIN:VEVENT
DTSTART;TZID=Europe/Berlin:20261203T180000
DTEND;TZID=Europe/Berlin:20261203T190000
DTSTAMP:20260422T062610
CREATED:20240126T073702Z
LAST-MODIFIED:20251227T161744Z
UID:3309-1796320800-1796324400@unser-dodendorf.de
SUMMARY:Tischtennis
DESCRIPTION:
URL:https://unser-dodendorf.de/veranstaltungen/tischtennis-48/
LOCATION:Sport- und Vereinsheim\, Sportplatz\, Dodendorf\, Sachsen-Anhalt\, 39171
CATEGORIES:Vereinskalender
END:VEVENT
BEGIN:VEVENT
DTSTART;TZID=Europe/Berlin:20261205T140000
DTEND;TZID=Europe/Berlin:20261205T210000
DTSTAMP:20260422T062610
CREATED:20240107T075642Z
LAST-MODIFIED:20260128T100157Z
UID:2398-1796479200-1796504400@unser-dodendorf.de
SUMMARY:Scheunen-Weihnacht
DESCRIPTION:
URL:https://unser-dodendorf.de/veranstaltungen/weihnachtsmarkt/
LOCATION:Lohe´s Scheune\, Lange Sülldorfer Straße 6\, Sülzetal/Dodendorf\, Sachsen-Anhalt\, 39171\, Germany
CATEGORIES:Veranstaltungen
END:VEVENT
BEGIN:VEVENT
DTSTART;TZID=Europe/Berlin:20261208T170000
DTEND;TZID=Europe/Berlin:20261208T190000
DTSTAMP:20260422T062610
CREATED:20240126T072312Z
LAST-MODIFIED:20251228T104720Z
UID:3269-1796749200-1796756400@unser-dodendorf.de
SUMMARY:Jugendtreff Dodendorf
DESCRIPTION:Altersgruppe 10-18 Jahren
URL:https://unser-dodendorf.de/veranstaltungen/jugendtreff-dodendorf-49/
LOCATION:Sport- und Vereinsheim\, Sportplatz\, Dodendorf\, Sachsen-Anhalt\, 39171
CATEGORIES:Vereinskalender
ORGANIZER;CN="Dodendorfer Heimatverein e.V.":MAILTO:heimatverein-dodendorf-ev@web.de
END:VEVENT
BEGIN:VEVENT
DTSTART;TZID=Europe/Berlin:20261210T140000
DTEND;TZID=Europe/Berlin:20261210T160000
DTSTAMP:20260422T062610
CREATED:20240126T073544Z
LAST-MODIFIED:20251227T155500Z
UID:3303-1796911200-1796918400@unser-dodendorf.de
SUMMARY:Kegeln
DESCRIPTION:
URL:https://unser-dodendorf.de/veranstaltungen/kegeln-49/
LOCATION:Sportplatz Dodendorf\, Sportplatz\, Sülzetal/Dodendorf\, Sachsen-Anhalt\, 39171
CATEGORIES:Vereinskalender
END:VEVENT
BEGIN:VEVENT
DTSTART;TZID=Europe/Berlin:20261210T180000
DTEND;TZID=Europe/Berlin:20261210T190000
DTSTAMP:20260422T062610
CREATED:20240126T073727Z
LAST-MODIFIED:20251227T161735Z
UID:3311-1796925600-1796929200@unser-dodendorf.de
SUMMARY:Tischtennis
DESCRIPTION:
URL:https://unser-dodendorf.de/veranstaltungen/tischtennis-49/
LOCATION:Sport- und Vereinsheim\, Sportplatz\, Dodendorf\, Sachsen-Anhalt\, 39171
CATEGORIES:Vereinskalender
END:VEVENT
BEGIN:VEVENT
DTSTART;VALUE=DATE:20261211
DTEND;VALUE=DATE:20261213
DTSTAMP:20260422T062610
CREATED:20240409T064853Z
LAST-MODIFIED:20260128T100104Z
UID:3411-1796947200-1797119999@unser-dodendorf.de
SUMMARY:Raumblocker Sportlerheim
DESCRIPTION:
URL:https://unser-dodendorf.de/veranstaltungen/raumblocker-sportlerheim-4/
LOCATION:Sport- und Vereinsheim\, Sportplatz\, Dodendorf\, Sachsen-Anhalt\, 39171
CATEGORIES:Vereinskalender
END:VEVENT
BEGIN:VEVENT
DTSTART;TZID=Europe/Berlin:20261211T140000
DTEND;TZID=Europe/Berlin:20261211T200000
DTSTAMP:20260422T062610
CREATED:20240107T075823Z
LAST-MODIFIED:20251227T165706Z
UID:2400-1796997600-1797019200@unser-dodendorf.de
SUMMARY:Volkssolidarität - Weihnachtsfeier
DESCRIPTION:Weihnachtsfeier für alle interessierten Dodendorfer
URL:https://unser-dodendorf.de/veranstaltungen/weihnachtsfeier-der-volkssolidaritaet/
LOCATION:Sport- und Vereinsheim\, Sportplatz\, Dodendorf\, Sachsen-Anhalt\, 39171
CATEGORIES:Veranstaltungen
END:VEVENT
BEGIN:VEVENT
DTSTART;TZID=Europe/Berlin:20261215T170000
DTEND;TZID=Europe/Berlin:20261215T190000
DTSTAMP:20260422T062610
CREATED:20240126T072412Z
LAST-MODIFIED:20251228T104710Z
UID:3271-1797354000-1797361200@unser-dodendorf.de
SUMMARY:Jugendtreff Dodendorf
DESCRIPTION:Altersgruppe 10-18 Jahren
URL:https://unser-dodendorf.de/veranstaltungen/jugendtreff-dodendorf-50/
LOCATION:Sport- und Vereinsheim\, Sportplatz\, Dodendorf\, Sachsen-Anhalt\, 39171
CATEGORIES:Vereinskalender
ORGANIZER;CN="Dodendorfer Heimatverein e.V.":MAILTO:heimatverein-dodendorf-ev@web.de
END:VEVENT
BEGIN:VEVENT
DTSTART;TZID=Europe/Berlin:20261217T140000
DTEND;TZID=Europe/Berlin:20261217T160000
DTSTAMP:20260422T062610
CREATED:20240126T073607Z
LAST-MODIFIED:20251227T155450Z
UID:3305-1797516000-1797523200@unser-dodendorf.de
SUMMARY:Kegeln
DESCRIPTION:
URL:https://unser-dodendorf.de/veranstaltungen/kegeln-50/
LOCATION:Sportplatz Dodendorf\, Sportplatz\, Sülzetal/Dodendorf\, Sachsen-Anhalt\, 39171
CATEGORIES:Vereinskalender
END:VEVENT
BEGIN:VEVENT
DTSTART;TZID=Europe/Berlin:20261217T180000
DTEND;TZID=Europe/Berlin:20261217T190000
DTSTAMP:20260422T062610
CREATED:20240126T073753Z
LAST-MODIFIED:20251227T161726Z
UID:3313-1797530400-1797534000@unser-dodendorf.de
SUMMARY:Tischtennis
DESCRIPTION:
URL:https://unser-dodendorf.de/veranstaltungen/tischtennis-50/
LOCATION:Sport- und Vereinsheim\, Sportplatz\, Dodendorf\, Sachsen-Anhalt\, 39171
CATEGORIES:Vereinskalender
END:VEVENT
BEGIN:VEVENT
DTSTART;TZID=Europe/Berlin:20261218T180000
DTEND;TZID=Europe/Berlin:20261218T190000
DTSTAMP:20260422T062610
CREATED:20240121T190618Z
LAST-MODIFIED:20251227T163235Z
UID:3026-1797616800-1797620400@unser-dodendorf.de
SUMMARY:Kaninchenverein - Sitzung
DESCRIPTION:
URL:https://unser-dodendorf.de/veranstaltungen/kaninchenverein-sitzung-12/
LOCATION:Sportplatz Dodendorf\, Sportplatz\, Sülzetal/Dodendorf\, Sachsen-Anhalt\, 39171
CATEGORIES:Vereinskalender
END:VEVENT
BEGIN:VEVENT
DTSTART;TZID=Europe/Berlin:20261222T170000
DTEND;TZID=Europe/Berlin:20261222T190000
DTSTAMP:20260422T062610
CREATED:20240126T072448Z
LAST-MODIFIED:20251228T104701Z
UID:3273-1797958800-1797966000@unser-dodendorf.de
SUMMARY:Jugendtreff Dodendorf
DESCRIPTION:Altersgruppe 10-18 Jahren
URL:https://unser-dodendorf.de/veranstaltungen/jugendtreff-dodendorf-51/
LOCATION:Sport- und Vereinsheim\, Sportplatz\, Dodendorf\, Sachsen-Anhalt\, 39171
CATEGORIES:Vereinskalender
ORGANIZER;CN="Dodendorfer Heimatverein e.V.":MAILTO:heimatverein-dodendorf-ev@web.de
END:VEVENT
BEGIN:VEVENT
DTSTART;TZID=Europe/Berlin:20261224T140000
DTEND;TZID=Europe/Berlin:20261224T160000
DTSTAMP:20260422T062610
CREATED:20240126T073634Z
LAST-MODIFIED:20251227T155441Z
UID:3307-1798120800-1798128000@unser-dodendorf.de
SUMMARY:Kegeln
DESCRIPTION:
URL:https://unser-dodendorf.de/veranstaltungen/kegeln-51/
LOCATION:Sportplatz Dodendorf\, Sportplatz\, Sülzetal/Dodendorf\, Sachsen-Anhalt\, 39171
CATEGORIES:Vereinskalender
END:VEVENT
BEGIN:VEVENT
DTSTART;TZID=Europe/Berlin:20261224T180000
DTEND;TZID=Europe/Berlin:20261224T190000
DTSTAMP:20260422T062610
CREATED:20240126T073818Z
LAST-MODIFIED:20251227T161713Z
UID:3315-1798135200-1798138800@unser-dodendorf.de
SUMMARY:Tischtennis
DESCRIPTION:
URL:https://unser-dodendorf.de/veranstaltungen/tischtennis-51/
LOCATION:Sport- und Vereinsheim\, Sportplatz\, Dodendorf\, Sachsen-Anhalt\, 39171
CATEGORIES:Vereinskalender
END:VEVENT
BEGIN:VEVENT
DTSTART;TZID=Europe/Berlin:20261229T170000
DTEND;TZID=Europe/Berlin:20261229T190000
DTSTAMP:20260422T062610
CREATED:20240126T072523Z
LAST-MODIFIED:20251228T104652Z
UID:3275-1798563600-1798570800@unser-dodendorf.de
SUMMARY:Jugendtreff Dodendorf
DESCRIPTION:Altersgruppe 10-18 Jahren
URL:https://unser-dodendorf.de/veranstaltungen/jugendtreff-dodendorf-52/
LOCATION:Sport- und Vereinsheim\, Sportplatz\, Dodendorf\, Sachsen-Anhalt\, 39171
CATEGORIES:Vereinskalender
ORGANIZER;CN="Dodendorfer Heimatverein e.V.":MAILTO:heimatverein-dodendorf-ev@web.de
END:VEVENT
BEGIN:VEVENT
DTSTART;TZID=Europe/Berlin:20261231T180000
DTEND;TZID=Europe/Berlin:20261231T190000
DTSTAMP:20260422T062610
CREATED:20251227T161936Z
LAST-MODIFIED:20251227T161956Z
UID:3790-1798740000-1798743600@unser-dodendorf.de
SUMMARY:Tischtennis
DESCRIPTION:
URL:https://unser-dodendorf.de/veranstaltungen/tischtennis-52/
LOCATION:Sport- und Vereinsheim\, Sportplatz\, Dodendorf\, Sachsen-Anhalt\, 39171
CATEGORIES:Vereinskalender
END:VEVENT
BEGIN:VEVENT
DTSTART;TZID=Europe/Berlin:20261231T180000
DTEND;TZID=Europe/Berlin:20270101T010000
DTSTAMP:20260422T062610
CREATED:20240107T075933Z
LAST-MODIFIED:20260128T100301Z
UID:2402-1798740000-1798765200@unser-dodendorf.de
SUMMARY:Silvesterparty
DESCRIPTION:
URL:https://unser-dodendorf.de/veranstaltungen/silvesterparty/
LOCATION:Sport- und Vereinsheim\, Sportplatz\, Dodendorf\, Sachsen-Anhalt\, 39171
CATEGORIES:Veranstaltungen
ORGANIZER;CN="Dodendorfer Heimatverein e.V.":MAILTO:heimatverein-dodendorf-ev@web.de
END:VEVENT
BEGIN:VEVENT
DTSTART;VALUE=DATE:20270129
DTEND;VALUE=DATE:20270201
DTSTAMP:20260422T062610
CREATED:20240409T065143Z
LAST-MODIFIED:20260128T095723Z
UID:3415-1801180800-1801439999@unser-dodendorf.de
SUMMARY:Raumblocker Sportlerheim
DESCRIPTION:
URL:https://unser-dodendorf.de/veranstaltungen/raumblocker-sportlerheim-6/
LOCATION:Sport- und Vereinsheim\, Sportplatz\, Dodendorf\, Sachsen-Anhalt\, 39171
CATEGORIES:Vereinskalender
END:VEVENT
END:VCALENDAR