BEGIN:VCALENDAR
VERSION:2.0
PRODID:-//Unser Dodendorf - ECPv6.15.14//NONSGML v1.0//EN
CALSCALE:GREGORIAN
METHOD:PUBLISH
X-WR-CALNAME:Unser Dodendorf
X-ORIGINAL-URL:https://unser-dodendorf.de
X-WR-CALDESC:Veranstaltungen für Unser Dodendorf
REFRESH-INTERVAL;VALUE=DURATION:PT1H
X-Robots-Tag:noindex
X-PUBLISHED-TTL:PT1H
BEGIN:VTIMEZONE
TZID:Europe/Berlin
BEGIN:DAYLIGHT
TZOFFSETFROM:+0100
TZOFFSETTO:+0200
TZNAME:CEST
DTSTART:20250330T010000
END:DAYLIGHT
BEGIN:STANDARD
TZOFFSETFROM:+0200
TZOFFSETTO:+0100
TZNAME:CET
DTSTART:20251026T010000
END:STANDARD
BEGIN:DAYLIGHT
TZOFFSETFROM:+0100
TZOFFSETTO:+0200
TZNAME:CEST
DTSTART:20260329T010000
END:DAYLIGHT
BEGIN:STANDARD
TZOFFSETFROM:+0200
TZOFFSETTO:+0100
TZNAME:CET
DTSTART:20261025T010000
END:STANDARD
BEGIN:DAYLIGHT
TZOFFSETFROM:+0100
TZOFFSETTO:+0200
TZNAME:CEST
DTSTART:20270328T010000
END:DAYLIGHT
BEGIN:STANDARD
TZOFFSETFROM:+0200
TZOFFSETTO:+0100
TZNAME:CET
DTSTART:20271031T010000
END:STANDARD
END:VTIMEZONE
BEGIN:VEVENT
DTSTART;TZID=Europe/Berlin:20260709T140000
DTEND;TZID=Europe/Berlin:20260709T170000
DTSTAMP:20260421T194634
CREATED:20251227T165449Z
LAST-MODIFIED:20251227T165515Z
UID:3798-1783605600-1783616400@unser-dodendorf.de
SUMMARY:Volkssolidarität
DESCRIPTION:
URL:https://unser-dodendorf.de/veranstaltungen/volkssolidaritaet-4/
LOCATION:Sport- und Vereinsheim\, Sportplatz\, Dodendorf\, Sachsen-Anhalt\, 39171
CATEGORIES:Vereinskalender
END:VEVENT
BEGIN:VEVENT
DTSTART;TZID=Europe/Berlin:20260709T180000
DTEND;TZID=Europe/Berlin:20260709T190000
DTSTAMP:20260421T194634
CREATED:20240119T072102Z
LAST-MODIFIED:20251227T161247Z
UID:2929-1783620000-1783623600@unser-dodendorf.de
SUMMARY:Tischtennis
DESCRIPTION:
URL:https://unser-dodendorf.de/veranstaltungen/tischtennis-28/
LOCATION:Sport- und Vereinsheim\, Sportplatz\, Dodendorf\, Sachsen-Anhalt\, 39171
CATEGORIES:Vereinskalender
END:VEVENT
BEGIN:VEVENT
DTSTART;TZID=Europe/Berlin:20260714T170000
DTEND;TZID=Europe/Berlin:20260714T190000
DTSTAMP:20260421T194634
CREATED:20240119T070242Z
LAST-MODIFIED:20251228T104257Z
UID:2881-1784048400-1784055600@unser-dodendorf.de
SUMMARY:Jugendtreff Dodendorf
DESCRIPTION:Altersgruppe 10-18 Jahren
URL:https://unser-dodendorf.de/veranstaltungen/jugendtreff-dodendorf-28/
LOCATION:Sport- und Vereinsheim\, Sportplatz\, Dodendorf\, Sachsen-Anhalt\, 39171
CATEGORIES:Vereinskalender
ORGANIZER;CN="Dodendorfer Heimatverein e.V.":MAILTO:heimatverein-dodendorf-ev@web.de
END:VEVENT
BEGIN:VEVENT
DTSTART;TZID=Europe/Berlin:20260716T140000
DTEND;TZID=Europe/Berlin:20260716T160000
DTSTAMP:20260421T194634
CREATED:20240119T071832Z
LAST-MODIFIED:20251227T155016Z
UID:2921-1784210400-1784217600@unser-dodendorf.de
SUMMARY:Kegeln
DESCRIPTION:
URL:https://unser-dodendorf.de/veranstaltungen/kegeln-28/
LOCATION:Sportplatz Dodendorf\, Sportplatz\, Sülzetal/Dodendorf\, Sachsen-Anhalt\, 39171
CATEGORIES:Vereinskalender
END:VEVENT
BEGIN:VEVENT
DTSTART;TZID=Europe/Berlin:20260716T180000
DTEND;TZID=Europe/Berlin:20260716T190000
DTSTAMP:20260421T194634
CREATED:20240119T072037Z
LAST-MODIFIED:20251227T161329Z
UID:2927-1784224800-1784228400@unser-dodendorf.de
SUMMARY:Tischtennis
DESCRIPTION:
URL:https://unser-dodendorf.de/veranstaltungen/tischtennis-27/
LOCATION:Sport- und Vereinsheim\, Sportplatz\, Dodendorf\, Sachsen-Anhalt\, 39171
CATEGORIES:Vereinskalender
END:VEVENT
BEGIN:VEVENT
DTSTART;TZID=Europe/Berlin:20260717T180000
DTEND;TZID=Europe/Berlin:20260717T190000
DTSTAMP:20260421T194634
CREATED:20240121T190334Z
LAST-MODIFIED:20251227T163113Z
UID:3016-1784311200-1784314800@unser-dodendorf.de
SUMMARY:Kaninchenverein - Sitzung
DESCRIPTION:
URL:https://unser-dodendorf.de/veranstaltungen/kaninchenverein-sitzung-7/
LOCATION:Sportplatz Dodendorf\, Sportplatz\, Sülzetal/Dodendorf\, Sachsen-Anhalt\, 39171
CATEGORIES:Vereinskalender
END:VEVENT
BEGIN:VEVENT
DTSTART;TZID=Europe/Berlin:20260721T170000
DTEND;TZID=Europe/Berlin:20260721T190000
DTSTAMP:20260421T194634
CREATED:20240119T070319Z
LAST-MODIFIED:20251228T104307Z
UID:2883-1784653200-1784660400@unser-dodendorf.de
SUMMARY:Jugendtreff Dodendorf
DESCRIPTION:Altersgruppe 10-18 Jahren
URL:https://unser-dodendorf.de/veranstaltungen/jugendtreff-dodendorf-29/
LOCATION:Sport- und Vereinsheim\, Sportplatz\, Dodendorf\, Sachsen-Anhalt\, 39171
CATEGORIES:Vereinskalender
ORGANIZER;CN="Dodendorfer Heimatverein e.V.":MAILTO:heimatverein-dodendorf-ev@web.de
END:VEVENT
BEGIN:VEVENT
DTSTART;TZID=Europe/Berlin:20260723T140000
DTEND;TZID=Europe/Berlin:20260723T160000
DTSTAMP:20260421T194634
CREATED:20240119T071904Z
LAST-MODIFIED:20251227T155027Z
UID:2923-1784815200-1784822400@unser-dodendorf.de
SUMMARY:Kegeln
DESCRIPTION:
URL:https://unser-dodendorf.de/veranstaltungen/kegeln-29/
LOCATION:Sportplatz Dodendorf\, Sportplatz\, Sülzetal/Dodendorf\, Sachsen-Anhalt\, 39171
CATEGORIES:Vereinskalender
END:VEVENT
BEGIN:VEVENT
DTSTART;TZID=Europe/Berlin:20260723T180000
DTEND;TZID=Europe/Berlin:20260723T190000
DTSTAMP:20260421T194634
CREATED:20240119T072132Z
LAST-MODIFIED:20251227T161338Z
UID:2931-1784829600-1784833200@unser-dodendorf.de
SUMMARY:Tischtennis
DESCRIPTION:
URL:https://unser-dodendorf.de/veranstaltungen/tischtennis-29/
LOCATION:Sport- und Vereinsheim\, Sportplatz\, Dodendorf\, Sachsen-Anhalt\, 39171
CATEGORIES:Vereinskalender
END:VEVENT
BEGIN:VEVENT
DTSTART;TZID=Europe/Berlin:20260728T170000
DTEND;TZID=Europe/Berlin:20260728T190000
DTSTAMP:20260421T194634
CREATED:20240119T070400Z
LAST-MODIFIED:20251228T104438Z
UID:2885-1785258000-1785265200@unser-dodendorf.de
SUMMARY:Jugendtreff Dodendorf
DESCRIPTION:Altersgruppe 10-18 Jahren
URL:https://unser-dodendorf.de/veranstaltungen/jugendtreff-dodendorf-30/
LOCATION:Sport- und Vereinsheim\, Sportplatz\, Dodendorf\, Sachsen-Anhalt\, 39171
CATEGORIES:Vereinskalender
ORGANIZER;CN="Dodendorfer Heimatverein e.V.":MAILTO:heimatverein-dodendorf-ev@web.de
END:VEVENT
BEGIN:VEVENT
DTSTART;TZID=Europe/Berlin:20260730T140000
DTEND;TZID=Europe/Berlin:20260730T160000
DTSTAMP:20260421T194634
CREATED:20240121T072650Z
LAST-MODIFIED:20251227T155038Z
UID:2982-1785420000-1785427200@unser-dodendorf.de
SUMMARY:Kegeln
DESCRIPTION:
URL:https://unser-dodendorf.de/veranstaltungen/kegeln-30/
LOCATION:Sportplatz Dodendorf\, Sportplatz\, Sülzetal/Dodendorf\, Sachsen-Anhalt\, 39171
CATEGORIES:Vereinskalender
END:VEVENT
BEGIN:VEVENT
DTSTART;TZID=Europe/Berlin:20260730T180000
DTEND;TZID=Europe/Berlin:20260730T190000
DTSTAMP:20260421T194634
CREATED:20240121T072941Z
LAST-MODIFIED:20251227T161350Z
UID:2992-1785434400-1785438000@unser-dodendorf.de
SUMMARY:Tischtennis
DESCRIPTION:
URL:https://unser-dodendorf.de/veranstaltungen/tischtennis-30/
LOCATION:Sport- und Vereinsheim\, Sportplatz\, Dodendorf\, Sachsen-Anhalt\, 39171
CATEGORIES:Vereinskalender
END:VEVENT
BEGIN:VEVENT
DTSTART;VALUE=DATE:20260731
DTEND;VALUE=DATE:20260803
DTSTAMP:20260421T194634
CREATED:20250819T060140Z
LAST-MODIFIED:20250819T060140Z
UID:3759-1785456000-1785715199@unser-dodendorf.de
SUMMARY:Raumblocker Sportlerheim
DESCRIPTION:
URL:https://unser-dodendorf.de/veranstaltungen/raumblocker-sportlerheim-69/
LOCATION:Sport- und Vereinsheim\, Sportplatz\, Dodendorf\, Sachsen-Anhalt\, 39171
CATEGORIES:Vereinskalender
END:VEVENT
BEGIN:VEVENT
DTSTART;TZID=Europe/Berlin:20260804T170000
DTEND;TZID=Europe/Berlin:20260804T190000
DTSTAMP:20260421T194634
CREATED:20240121T071231Z
LAST-MODIFIED:20251228T104449Z
UID:2950-1785862800-1785870000@unser-dodendorf.de
SUMMARY:Jugendtreff Dodendorf
DESCRIPTION:Altersgruppe 10-18 Jahren
URL:https://unser-dodendorf.de/veranstaltungen/jugendtreff-dodendorf-31/
LOCATION:Sport- und Vereinsheim\, Sportplatz\, Dodendorf\, Sachsen-Anhalt\, 39171
CATEGORIES:Vereinskalender
ORGANIZER;CN="Dodendorfer Heimatverein e.V.":MAILTO:heimatverein-dodendorf-ev@web.de
END:VEVENT
BEGIN:VEVENT
DTSTART;TZID=Europe/Berlin:20260806T140000
DTEND;TZID=Europe/Berlin:20260806T160000
DTSTAMP:20260421T194634
CREATED:20240121T072716Z
LAST-MODIFIED:20251227T155114Z
UID:2984-1786024800-1786032000@unser-dodendorf.de
SUMMARY:Kegeln
DESCRIPTION:
URL:https://unser-dodendorf.de/veranstaltungen/kegeln-31/
LOCATION:Sportplatz Dodendorf\, Sportplatz\, Sülzetal/Dodendorf\, Sachsen-Anhalt\, 39171
CATEGORIES:Vereinskalender
END:VEVENT
BEGIN:VEVENT
DTSTART;TZID=Europe/Berlin:20260806T180000
DTEND;TZID=Europe/Berlin:20260806T190000
DTSTAMP:20260421T194634
CREATED:20240121T073007Z
LAST-MODIFIED:20251227T161358Z
UID:2994-1786039200-1786042800@unser-dodendorf.de
SUMMARY:Tischtennis
DESCRIPTION:
URL:https://unser-dodendorf.de/veranstaltungen/tischtennis-31/
LOCATION:Sport- und Vereinsheim\, Sportplatz\, Dodendorf\, Sachsen-Anhalt\, 39171
CATEGORIES:Vereinskalender
END:VEVENT
BEGIN:VEVENT
DTSTART;TZID=Europe/Berlin:20260811T170000
DTEND;TZID=Europe/Berlin:20260811T190000
DTSTAMP:20260421T194634
CREATED:20240121T071305Z
LAST-MODIFIED:20251228T104458Z
UID:2952-1786467600-1786474800@unser-dodendorf.de
SUMMARY:Jugendtreff Dodendorf
DESCRIPTION:Altersgruppe 10-18 Jahren
URL:https://unser-dodendorf.de/veranstaltungen/jugendtreff-dodendorf-32/
LOCATION:Sport- und Vereinsheim\, Sportplatz\, Dodendorf\, Sachsen-Anhalt\, 39171
CATEGORIES:Vereinskalender
ORGANIZER;CN="Dodendorfer Heimatverein e.V.":MAILTO:heimatverein-dodendorf-ev@web.de
END:VEVENT
BEGIN:VEVENT
DTSTART;TZID=Europe/Berlin:20260812T140000
DTEND;TZID=Europe/Berlin:20260812T170000
DTSTAMP:20260421T194634
CREATED:20240111T070126Z
LAST-MODIFIED:20251227T165548Z
UID:2707-1786543200-1786554000@unser-dodendorf.de
SUMMARY:Volkssolidarität
DESCRIPTION:
URL:https://unser-dodendorf.de/veranstaltungen/volkssolidaritaet-7/
LOCATION:Sport- und Vereinsheim\, Sportplatz\, Dodendorf\, Sachsen-Anhalt\, 39171
CATEGORIES:Vereinskalender
END:VEVENT
BEGIN:VEVENT
DTSTART;TZID=Europe/Berlin:20260813T140000
DTEND;TZID=Europe/Berlin:20260813T160000
DTSTAMP:20260421T194634
CREATED:20240121T072742Z
LAST-MODIFIED:20251227T155123Z
UID:2986-1786629600-1786636800@unser-dodendorf.de
SUMMARY:Kegeln
DESCRIPTION:
URL:https://unser-dodendorf.de/veranstaltungen/kegeln-32/
LOCATION:Sportplatz Dodendorf\, Sportplatz\, Sülzetal/Dodendorf\, Sachsen-Anhalt\, 39171
CATEGORIES:Vereinskalender
END:VEVENT
BEGIN:VEVENT
DTSTART;TZID=Europe/Berlin:20260813T180000
DTEND;TZID=Europe/Berlin:20260813T190000
DTSTAMP:20260421T194634
CREATED:20240121T073035Z
LAST-MODIFIED:20251227T161410Z
UID:2996-1786644000-1786647600@unser-dodendorf.de
SUMMARY:Tischtennis
DESCRIPTION:
URL:https://unser-dodendorf.de/veranstaltungen/tischtennis-32/
LOCATION:Sport- und Vereinsheim\, Sportplatz\, Dodendorf\, Sachsen-Anhalt\, 39171
CATEGORIES:Vereinskalender
END:VEVENT
BEGIN:VEVENT
DTSTART;VALUE=DATE:20260814
DTEND;VALUE=DATE:20260817
DTSTAMP:20260421T194634
CREATED:20250819T060210Z
LAST-MODIFIED:20250819T060210Z
UID:3761-1786665600-1786924799@unser-dodendorf.de
SUMMARY:Raumblocker Sportlerheim
DESCRIPTION:
URL:https://unser-dodendorf.de/veranstaltungen/raumblocker-sportlerheim-70/
LOCATION:Sport- und Vereinsheim\, Sportplatz\, Dodendorf\, Sachsen-Anhalt\, 39171
CATEGORIES:Vereinskalender
END:VEVENT
BEGIN:VEVENT
DTSTART;TZID=Europe/Berlin:20260818T170000
DTEND;TZID=Europe/Berlin:20260818T190000
DTSTAMP:20260421T194634
CREATED:20240121T071343Z
LAST-MODIFIED:20251228T104508Z
UID:2954-1787072400-1787079600@unser-dodendorf.de
SUMMARY:Jugendtreff Dodendorf
DESCRIPTION:Altersgruppe 10-18 Jahren
URL:https://unser-dodendorf.de/veranstaltungen/jugendtreff-dodendorf-33/
LOCATION:Sport- und Vereinsheim\, Sportplatz\, Dodendorf\, Sachsen-Anhalt\, 39171
CATEGORIES:Vereinskalender
ORGANIZER;CN="Dodendorfer Heimatverein e.V.":MAILTO:heimatverein-dodendorf-ev@web.de
END:VEVENT
BEGIN:VEVENT
DTSTART;TZID=Europe/Berlin:20260820T140000
DTEND;TZID=Europe/Berlin:20260820T160000
DTSTAMP:20260421T194634
CREATED:20240121T072823Z
LAST-MODIFIED:20251227T155133Z
UID:2988-1787234400-1787241600@unser-dodendorf.de
SUMMARY:Kegeln
DESCRIPTION:
URL:https://unser-dodendorf.de/veranstaltungen/kegeln-33/
LOCATION:Sportplatz Dodendorf\, Sportplatz\, Sülzetal/Dodendorf\, Sachsen-Anhalt\, 39171
CATEGORIES:Vereinskalender
END:VEVENT
BEGIN:VEVENT
DTSTART;TZID=Europe/Berlin:20260820T180000
DTEND;TZID=Europe/Berlin:20260820T190000
DTSTAMP:20260421T194634
CREATED:20240121T073103Z
LAST-MODIFIED:20251227T161419Z
UID:2998-1787248800-1787252400@unser-dodendorf.de
SUMMARY:Tischtennis
DESCRIPTION:
URL:https://unser-dodendorf.de/veranstaltungen/tischtennis-33/
LOCATION:Sport- und Vereinsheim\, Sportplatz\, Dodendorf\, Sachsen-Anhalt\, 39171
CATEGORIES:Vereinskalender
END:VEVENT
BEGIN:VEVENT
DTSTART;VALUE=DATE:20260821
DTEND;VALUE=DATE:20260824
DTSTAMP:20260421T194634
CREATED:20250819T060240Z
LAST-MODIFIED:20250819T060240Z
UID:3763-1787270400-1787529599@unser-dodendorf.de
SUMMARY:Raumblocker Sportlerheim
DESCRIPTION:
URL:https://unser-dodendorf.de/veranstaltungen/raumblocker-sportlerheim-71/
LOCATION:Sport- und Vereinsheim\, Sportplatz\, Dodendorf\, Sachsen-Anhalt\, 39171
CATEGORIES:Vereinskalender
END:VEVENT
BEGIN:VEVENT
DTSTART;TZID=Europe/Berlin:20260821T180000
DTEND;TZID=Europe/Berlin:20260821T190000
DTSTAMP:20260421T194634
CREATED:20240121T190420Z
LAST-MODIFIED:20251227T163127Z
UID:3018-1787335200-1787338800@unser-dodendorf.de
SUMMARY:Kaninchenverein - Sitzung
DESCRIPTION:
URL:https://unser-dodendorf.de/veranstaltungen/kaninchenverein-sitzung-8/
LOCATION:Sportplatz Dodendorf\, Sportplatz\, Sülzetal/Dodendorf\, Sachsen-Anhalt\, 39171
CATEGORIES:Vereinskalender
END:VEVENT
BEGIN:VEVENT
DTSTART;TZID=Europe/Berlin:20260825T170000
DTEND;TZID=Europe/Berlin:20260825T190000
DTSTAMP:20260421T194634
CREATED:20240121T071433Z
LAST-MODIFIED:20251228T104518Z
UID:2956-1787677200-1787684400@unser-dodendorf.de
SUMMARY:Jugendtreff Dodendorf
DESCRIPTION:Altersgruppe 10-18 Jahren
URL:https://unser-dodendorf.de/veranstaltungen/jugendtreff-dodendorf-34/
LOCATION:Sport- und Vereinsheim\, Sportplatz\, Dodendorf\, Sachsen-Anhalt\, 39171
CATEGORIES:Vereinskalender
ORGANIZER;CN="Dodendorfer Heimatverein e.V.":MAILTO:heimatverein-dodendorf-ev@web.de
END:VEVENT
BEGIN:VEVENT
DTSTART;TZID=Europe/Berlin:20260827T140000
DTEND;TZID=Europe/Berlin:20260827T160000
DTSTAMP:20260421T194634
CREATED:20240121T072849Z
LAST-MODIFIED:20251227T155143Z
UID:2990-1787839200-1787846400@unser-dodendorf.de
SUMMARY:Kegeln
DESCRIPTION:
URL:https://unser-dodendorf.de/veranstaltungen/kegeln-34/
LOCATION:Sportplatz Dodendorf\, Sportplatz\, Sülzetal/Dodendorf\, Sachsen-Anhalt\, 39171
CATEGORIES:Vereinskalender
END:VEVENT
BEGIN:VEVENT
DTSTART;TZID=Europe/Berlin:20260827T180000
DTEND;TZID=Europe/Berlin:20260827T190000
DTSTAMP:20260421T194634
CREATED:20240121T073137Z
LAST-MODIFIED:20251227T161428Z
UID:3000-1787853600-1787857200@unser-dodendorf.de
SUMMARY:Tischtennis
DESCRIPTION:
URL:https://unser-dodendorf.de/veranstaltungen/tischtennis-34/
LOCATION:Sport- und Vereinsheim\, Sportplatz\, Dodendorf\, Sachsen-Anhalt\, 39171
CATEGORIES:Vereinskalender
END:VEVENT
BEGIN:VEVENT
DTSTART;VALUE=DATE:20260828
DTEND;VALUE=DATE:20260830
DTSTAMP:20260421T194634
CREATED:20251228T102110Z
LAST-MODIFIED:20251228T102110Z
UID:3830-1787875200-1788047999@unser-dodendorf.de
SUMMARY:Raumblocker Sportlerheim
DESCRIPTION:
URL:https://unser-dodendorf.de/veranstaltungen/raumblocker-sportlerheim-84/
LOCATION:Sport- und Vereinsheim\, Sportplatz\, Dodendorf\, Sachsen-Anhalt\, 39171
CATEGORIES:Vereinskalender
END:VEVENT
END:VCALENDAR