BEGIN:VCALENDAR
VERSION:2.0
PRODID:-//Unser Dodendorf - ECPv6.15.14//NONSGML v1.0//EN
CALSCALE:GREGORIAN
METHOD:PUBLISH
X-ORIGINAL-URL:https://unser-dodendorf.de
X-WR-CALDESC:Veranstaltungen für Unser Dodendorf
REFRESH-INTERVAL;VALUE=DURATION:PT1H
X-Robots-Tag:noindex
X-PUBLISHED-TTL:PT1H
BEGIN:VTIMEZONE
TZID:Europe/Berlin
BEGIN:DAYLIGHT
TZOFFSETFROM:+0100
TZOFFSETTO:+0200
TZNAME:CEST
DTSTART:20230326T010000
END:DAYLIGHT
BEGIN:STANDARD
TZOFFSETFROM:+0200
TZOFFSETTO:+0100
TZNAME:CET
DTSTART:20231029T010000
END:STANDARD
BEGIN:DAYLIGHT
TZOFFSETFROM:+0100
TZOFFSETTO:+0200
TZNAME:CEST
DTSTART:20240331T010000
END:DAYLIGHT
BEGIN:STANDARD
TZOFFSETFROM:+0200
TZOFFSETTO:+0100
TZNAME:CET
DTSTART:20241027T010000
END:STANDARD
BEGIN:DAYLIGHT
TZOFFSETFROM:+0100
TZOFFSETTO:+0200
TZNAME:CEST
DTSTART:20250330T010000
END:DAYLIGHT
BEGIN:STANDARD
TZOFFSETFROM:+0200
TZOFFSETTO:+0100
TZNAME:CET
DTSTART:20251026T010000
END:STANDARD
END:VTIMEZONE
BEGIN:VEVENT
DTSTART;TZID=Europe/Berlin:20240830T130000
DTEND;TZID=Europe/Berlin:20240901T130000
DTSTAMP:20260422T172556
CREATED:20240409T070218Z
LAST-MODIFIED:20240409T070218Z
UID:3431-1725022800-1725195600@unser-dodendorf.de
SUMMARY:Raumblocker Sportlerheim
DESCRIPTION:
URL:https://unser-dodendorf.de/veranstaltungen/raumblocker-sportlerheim-14/
LOCATION:Sport- und Vereinsheim\, Sportplatz\, Dodendorf\, Sachsen-Anhalt\, 39171
CATEGORIES:Vereinskalender
END:VEVENT
BEGIN:VEVENT
DTSTART;VALUE=DATE:20240913
DTEND;VALUE=DATE:20240914
DTSTAMP:20260422T172556
CREATED:20240409T070455Z
LAST-MODIFIED:20240409T070455Z
UID:3435-1726185600-1726271999@unser-dodendorf.de
SUMMARY:Raumblocker Sportlerheim
DESCRIPTION:
URL:https://unser-dodendorf.de/veranstaltungen/raumblocker-sportlerheim-15/
LOCATION:Sport- und Vereinsheim\, Sportplatz\, Dodendorf\, Sachsen-Anhalt\, 39171
CATEGORIES:Vereinskalender
END:VEVENT
BEGIN:VEVENT
DTSTART;VALUE=DATE:20240916
DTEND;VALUE=DATE:20240917
DTSTAMP:20260422T172556
CREATED:20240409T070513Z
LAST-MODIFIED:20240409T070513Z
UID:3437-1726444800-1726531199@unser-dodendorf.de
SUMMARY:Raumblocker Sportlerheim
DESCRIPTION:
URL:https://unser-dodendorf.de/veranstaltungen/raumblocker-sportlerheim-16/
LOCATION:Sport- und Vereinsheim\, Sportplatz\, Dodendorf\, Sachsen-Anhalt\, 39171
CATEGORIES:Vereinskalender
END:VEVENT
BEGIN:VEVENT
DTSTART;TZID=Europe/Berlin:20240918T190000
DTEND;TZID=Europe/Berlin:20240918T200000
DTSTAMP:20260422T172556
CREATED:20240703T103514Z
LAST-MODIFIED:20240703T103514Z
UID:3488-1726686000-1726689600@unser-dodendorf.de
SUMMARY:Dehnungsworkshop
DESCRIPTION:Termine am: 21.08 / 18.09 / 16.10 / 13.11 jeweils ab 19:00 Uhr
URL:https://unser-dodendorf.de/veranstaltungen/dehnungsworkshop-2/
LOCATION:Sport- und Vereinsheim\, Sportplatz\, Dodendorf\, Sachsen-Anhalt\, 39171
CATEGORIES:Vereinskalender
END:VEVENT
BEGIN:VEVENT
DTSTART;VALUE=DATE:20240920
DTEND;VALUE=DATE:20240923
DTSTAMP:20260422T172556
CREATED:20240409T072027Z
LAST-MODIFIED:20240409T072027Z
UID:3439-1726790400-1727049599@unser-dodendorf.de
SUMMARY:Raumblocker Sportlerheim
DESCRIPTION:
URL:https://unser-dodendorf.de/veranstaltungen/raumblocker-sportlerheim-17/
LOCATION:Sport- und Vereinsheim\, Sportplatz\, Dodendorf\, Sachsen-Anhalt\, 39171
CATEGORIES:Vereinskalender
END:VEVENT
BEGIN:VEVENT
DTSTART;VALUE=DATE:20240927
DTEND;VALUE=DATE:20240930
DTSTAMP:20260422T172556
CREATED:20240504T063337Z
LAST-MODIFIED:20240504T063337Z
UID:3462-1727395200-1727654399@unser-dodendorf.de
SUMMARY:Raumblocker Sportlerheim
DESCRIPTION:
URL:https://unser-dodendorf.de/veranstaltungen/raumblocker-sportlerheim-11/
LOCATION:Sport- und Vereinsheim\, Sportplatz\, Dodendorf\, Sachsen-Anhalt\, 39171
CATEGORIES:Vereinskalender
END:VEVENT
END:VCALENDAR