BEGIN:VCALENDAR
VERSION:2.0
PRODID:-//Unser Dodendorf - ECPv6.15.14//NONSGML v1.0//EN
CALSCALE:GREGORIAN
METHOD:PUBLISH
X-ORIGINAL-URL:https://unser-dodendorf.de
X-WR-CALDESC:Veranstaltungen für Unser Dodendorf
REFRESH-INTERVAL;VALUE=DURATION:PT1H
X-Robots-Tag:noindex
X-PUBLISHED-TTL:PT1H
BEGIN:VTIMEZONE
TZID:Europe/Berlin
BEGIN:DAYLIGHT
TZOFFSETFROM:+0100
TZOFFSETTO:+0200
TZNAME:CEST
DTSTART:20230326T010000
END:DAYLIGHT
BEGIN:STANDARD
TZOFFSETFROM:+0200
TZOFFSETTO:+0100
TZNAME:CET
DTSTART:20231029T010000
END:STANDARD
BEGIN:DAYLIGHT
TZOFFSETFROM:+0100
TZOFFSETTO:+0200
TZNAME:CEST
DTSTART:20240331T010000
END:DAYLIGHT
BEGIN:STANDARD
TZOFFSETFROM:+0200
TZOFFSETTO:+0100
TZNAME:CET
DTSTART:20241027T010000
END:STANDARD
BEGIN:DAYLIGHT
TZOFFSETFROM:+0100
TZOFFSETTO:+0200
TZNAME:CEST
DTSTART:20250330T010000
END:DAYLIGHT
BEGIN:STANDARD
TZOFFSETFROM:+0200
TZOFFSETTO:+0100
TZNAME:CET
DTSTART:20251026T010000
END:STANDARD
BEGIN:DAYLIGHT
TZOFFSETFROM:+0100
TZOFFSETTO:+0200
TZNAME:CEST
DTSTART:20260329T010000
END:DAYLIGHT
BEGIN:STANDARD
TZOFFSETFROM:+0200
TZOFFSETTO:+0100
TZNAME:CET
DTSTART:20261025T010000
END:STANDARD
END:VTIMEZONE
BEGIN:VEVENT
DTSTART;VALUE=DATE:20241230
DTEND;VALUE=DATE:20250102
DTSTAMP:20260422T110852
CREATED:20240409T072224Z
LAST-MODIFIED:20240409T072224Z
UID:3441-1735516800-1735775999@unser-dodendorf.de
SUMMARY:Raumblocker Sportlerheim
DESCRIPTION:
URL:https://unser-dodendorf.de/veranstaltungen/raumblocker-sportlerheim-18/
LOCATION:Sport- und Vereinsheim\, Sportplatz\, Dodendorf\, Sachsen-Anhalt\, 39171
CATEGORIES:Vereinskalender
END:VEVENT
BEGIN:VEVENT
DTSTART;TZID=Europe/Berlin:20250106T180000
DTEND;TZID=Europe/Berlin:20250106T190000
DTSTAMP:20260422T110852
CREATED:20240108T065632Z
LAST-MODIFIED:20250129T080120Z
UID:2419-1736186400-1736190000@unser-dodendorf.de
SUMMARY:Sportgruppe 1
DESCRIPTION:
URL:https://unser-dodendorf.de/veranstaltungen/sportgruppe-1/
LOCATION:Sport- und Vereinsheim\, Sportplatz\, Dodendorf\, Sachsen-Anhalt\, 39171
CATEGORIES:Vereinskalender
END:VEVENT
BEGIN:VEVENT
DTSTART;TZID=Europe/Berlin:20250108T093000
DTEND;TZID=Europe/Berlin:20250108T103000
DTSTAMP:20260422T110852
CREATED:20240108T071946Z
LAST-MODIFIED:20250113T152443Z
UID:2446-1736328600-1736332200@unser-dodendorf.de
SUMMARY:Sportgruppe Senioren
DESCRIPTION:
URL:https://unser-dodendorf.de/veranstaltungen/sportgruppe-senioren/
LOCATION:Sport- und Vereinsheim\, Sportplatz\, Dodendorf\, Sachsen-Anhalt\, 39171
CATEGORIES:Vereinskalender
END:VEVENT
BEGIN:VEVENT
DTSTART;TZID=Europe/Berlin:20250113T180000
DTEND;TZID=Europe/Berlin:20250113T190000
DTSTAMP:20260422T110852
CREATED:20240108T065751Z
LAST-MODIFIED:20250129T080136Z
UID:2421-1736791200-1736794800@unser-dodendorf.de
SUMMARY:Sportgruppe 1
DESCRIPTION:
URL:https://unser-dodendorf.de/veranstaltungen/sportgruppe-1-2/
LOCATION:Sport- und Vereinsheim\, Sportplatz\, Dodendorf\, Sachsen-Anhalt\, 39171
CATEGORIES:Vereinskalender
END:VEVENT
BEGIN:VEVENT
DTSTART;TZID=Europe/Berlin:20250115T093000
DTEND;TZID=Europe/Berlin:20250115T103000
DTSTAMP:20260422T110852
CREATED:20240108T072021Z
LAST-MODIFIED:20250113T152542Z
UID:2448-1736933400-1736937000@unser-dodendorf.de
SUMMARY:Sportgruppe Senioren
DESCRIPTION:
URL:https://unser-dodendorf.de/veranstaltungen/sportgruppe-senioren-2/
LOCATION:Sport- und Vereinsheim\, Sportplatz\, Dodendorf\, Sachsen-Anhalt\, 39171
CATEGORIES:Vereinskalender
END:VEVENT
BEGIN:VEVENT
DTSTART;TZID=Europe/Berlin:20250115T163000
DTEND;TZID=Europe/Berlin:20250115T173000
DTSTAMP:20260422T110852
CREATED:20240108T072401Z
LAST-MODIFIED:20250110T093236Z
UID:2454-1736958600-1736962200@unser-dodendorf.de
SUMMARY:Kindertreff
DESCRIPTION:Altersgruppe 6-10 \n\nSport
URL:https://unser-dodendorf.de/veranstaltungen/kindertreff/
LOCATION:Sport- und Vereinsheim\, Sportplatz\, Dodendorf\, Sachsen-Anhalt\, 39171
CATEGORIES:Vereinskalender
ORGANIZER;CN="Dodendorfer Heimatverein e.V.":MAILTO:heimatverein-dodendorf-ev@web.de
END:VEVENT
BEGIN:VEVENT
DTSTART;VALUE=DATE:20250117
DTEND;VALUE=DATE:20250120
DTSTAMP:20260422T110852
CREATED:20241231T121008Z
LAST-MODIFIED:20241231T121008Z
UID:3600-1737072000-1737331199@unser-dodendorf.de
SUMMARY:Raumblocker Sportlerheim
DESCRIPTION:
URL:https://unser-dodendorf.de/veranstaltungen/raumblocker-sportlerheim-39/
LOCATION:Sport- und Vereinsheim\, Sportplatz\, Dodendorf\, Sachsen-Anhalt\, 39171
CATEGORIES:Vereinskalender
END:VEVENT
BEGIN:VEVENT
DTSTART;TZID=Europe/Berlin:20250120T180000
DTEND;TZID=Europe/Berlin:20250120T190000
DTSTAMP:20260422T110852
CREATED:20240108T070317Z
LAST-MODIFIED:20250129T080151Z
UID:2423-1737396000-1737399600@unser-dodendorf.de
SUMMARY:Sportgruppe 1
DESCRIPTION:
URL:https://unser-dodendorf.de/veranstaltungen/sportgruppe-1-3/
LOCATION:Sport- und Vereinsheim\, Sportplatz\, Dodendorf\, Sachsen-Anhalt\, 39171
CATEGORIES:Vereinskalender
END:VEVENT
BEGIN:VEVENT
DTSTART;TZID=Europe/Berlin:20250122T093000
DTEND;TZID=Europe/Berlin:20250122T103000
DTSTAMP:20260422T110852
CREATED:20240108T072135Z
LAST-MODIFIED:20250113T152600Z
UID:2450-1737538200-1737541800@unser-dodendorf.de
SUMMARY:Sportgruppe Senioren
DESCRIPTION:
URL:https://unser-dodendorf.de/veranstaltungen/sportgruppe-senioren-3/
LOCATION:Sport- und Vereinsheim\, Sportplatz\, Dodendorf\, Sachsen-Anhalt\, 39171
CATEGORIES:Vereinskalender
END:VEVENT
BEGIN:VEVENT
DTSTART;VALUE=DATE:20250124
DTEND;VALUE=DATE:20250127
DTSTAMP:20260422T110852
CREATED:20241019T082001Z
LAST-MODIFIED:20241019T082001Z
UID:3542-1737676800-1737935999@unser-dodendorf.de
SUMMARY:Raumblocker Sportlerheim
DESCRIPTION:
URL:https://unser-dodendorf.de/veranstaltungen/raumblocker-sportlerheim-37/
LOCATION:Sport- und Vereinsheim\, Sportplatz\, Dodendorf\, Sachsen-Anhalt\, 39171
CATEGORIES:Vereinskalender
END:VEVENT
BEGIN:VEVENT
DTSTART;TZID=Europe/Berlin:20250127T180000
DTEND;TZID=Europe/Berlin:20250127T190000
DTSTAMP:20260422T110852
CREATED:20240108T070400Z
LAST-MODIFIED:20250129T080209Z
UID:2425-1738000800-1738004400@unser-dodendorf.de
SUMMARY:Sportgruppe 1
DESCRIPTION:
URL:https://unser-dodendorf.de/veranstaltungen/sportgruppe-1-4/
LOCATION:Sport- und Vereinsheim\, Sportplatz\, Dodendorf\, Sachsen-Anhalt\, 39171
CATEGORIES:Vereinskalender
END:VEVENT
BEGIN:VEVENT
DTSTART;TZID=Europe/Berlin:20250129T093000
DTEND;TZID=Europe/Berlin:20250129T103000
DTSTAMP:20260422T110852
CREATED:20240108T072230Z
LAST-MODIFIED:20250113T152628Z
UID:2452-1738143000-1738146600@unser-dodendorf.de
SUMMARY:Sportgruppe Senioren
DESCRIPTION:
URL:https://unser-dodendorf.de/veranstaltungen/sportgruppe-senioren-4/
LOCATION:Sport- und Vereinsheim\, Sportplatz\, Dodendorf\, Sachsen-Anhalt\, 39171
CATEGORIES:Vereinskalender
END:VEVENT
BEGIN:VEVENT
DTSTART;VALUE=DATE:20250131
DTEND;VALUE=DATE:20250203
DTSTAMP:20260422T110852
CREATED:20241218T085638Z
LAST-MODIFIED:20241218T085723Z
UID:3576-1738281600-1738540799@unser-dodendorf.de
SUMMARY:Raumblocker Sportlerheim
DESCRIPTION:
URL:https://unser-dodendorf.de/veranstaltungen/raumblocker-sportlerheim-38/
LOCATION:Sport- und Vereinsheim\, Sportplatz\, Dodendorf\, Sachsen-Anhalt\, 39171
CATEGORIES:Vereinskalender
END:VEVENT
END:VCALENDAR