BEGIN:VCALENDAR
VERSION:2.0
PRODID:-//Unser Dodendorf - ECPv6.15.14//NONSGML v1.0//EN
CALSCALE:GREGORIAN
METHOD:PUBLISH
X-ORIGINAL-URL:https://unser-dodendorf.de
X-WR-CALDESC:Veranstaltungen für Unser Dodendorf
REFRESH-INTERVAL;VALUE=DURATION:PT1H
X-Robots-Tag:noindex
X-PUBLISHED-TTL:PT1H
BEGIN:VTIMEZONE
TZID:Europe/Berlin
BEGIN:DAYLIGHT
TZOFFSETFROM:+0100
TZOFFSETTO:+0200
TZNAME:CEST
DTSTART:20240331T010000
END:DAYLIGHT
BEGIN:STANDARD
TZOFFSETFROM:+0200
TZOFFSETTO:+0100
TZNAME:CET
DTSTART:20241027T010000
END:STANDARD
BEGIN:DAYLIGHT
TZOFFSETFROM:+0100
TZOFFSETTO:+0200
TZNAME:CEST
DTSTART:20250330T010000
END:DAYLIGHT
BEGIN:STANDARD
TZOFFSETFROM:+0200
TZOFFSETTO:+0100
TZNAME:CET
DTSTART:20251026T010000
END:STANDARD
BEGIN:DAYLIGHT
TZOFFSETFROM:+0100
TZOFFSETTO:+0200
TZNAME:CEST
DTSTART:20260329T010000
END:DAYLIGHT
BEGIN:STANDARD
TZOFFSETFROM:+0200
TZOFFSETTO:+0100
TZNAME:CET
DTSTART:20261025T010000
END:STANDARD
END:VTIMEZONE
BEGIN:VEVENT
DTSTART;VALUE=DATE:20250131
DTEND;VALUE=DATE:20250203
DTSTAMP:20260422T092341
CREATED:20241218T085638Z
LAST-MODIFIED:20241218T085723Z
UID:3576-1738281600-1738540799@unser-dodendorf.de
SUMMARY:Raumblocker Sportlerheim
DESCRIPTION:
URL:https://unser-dodendorf.de/veranstaltungen/raumblocker-sportlerheim-38/
LOCATION:Sport- und Vereinsheim\, Sportplatz\, Dodendorf\, Sachsen-Anhalt\, 39171
CATEGORIES:Vereinskalender
END:VEVENT
BEGIN:VEVENT
DTSTART;TZID=Europe/Berlin:20250203T180000
DTEND;TZID=Europe/Berlin:20250203T190000
DTSTAMP:20260422T092341
CREATED:20240108T082550Z
LAST-MODIFIED:20250129T080228Z
UID:2482-1738605600-1738609200@unser-dodendorf.de
SUMMARY:Sportgruppe 1
DESCRIPTION:
URL:https://unser-dodendorf.de/veranstaltungen/sportgruppe-1-5/
LOCATION:Sport- und Vereinsheim\, Sportplatz\, Dodendorf\, Sachsen-Anhalt\, 39171
CATEGORIES:Vereinskalender
END:VEVENT
BEGIN:VEVENT
DTSTART;TZID=Europe/Berlin:20250205T093000
DTEND;TZID=Europe/Berlin:20250205T103000
DTSTAMP:20260422T092341
CREATED:20240108T083723Z
LAST-MODIFIED:20250113T152843Z
UID:2504-1738747800-1738751400@unser-dodendorf.de
SUMMARY:Sportgruppe Senioren
DESCRIPTION:
URL:https://unser-dodendorf.de/veranstaltungen/sportgruppe-senioren-5/
LOCATION:Sport- und Vereinsheim\, Sportplatz\, Dodendorf\, Sachsen-Anhalt\, 39171
CATEGORIES:Vereinskalender
END:VEVENT
BEGIN:VEVENT
DTSTART;TZID=Europe/Berlin:20250205T163000
DTEND;TZID=Europe/Berlin:20250205T173000
DTSTAMP:20260422T092341
CREATED:20240108T072435Z
LAST-MODIFIED:20250110T093349Z
UID:2456-1738773000-1738776600@unser-dodendorf.de
SUMMARY:Kindertreff
DESCRIPTION:Altersgruppe 6-10 \n\nKochen
URL:https://unser-dodendorf.de/veranstaltungen/kindertreff-2/
LOCATION:Sport- und Vereinsheim\, Sportplatz\, Dodendorf\, Sachsen-Anhalt\, 39171
CATEGORIES:Vereinskalender
ORGANIZER;CN="Dodendorfer Heimatverein e.V.":MAILTO:heimatverein-dodendorf-ev@web.de
END:VEVENT
BEGIN:VEVENT
DTSTART;VALUE=DATE:20250207
DTEND;VALUE=DATE:20250210
DTSTAMP:20260422T092341
CREATED:20241231T121243Z
LAST-MODIFIED:20241231T121243Z
UID:3602-1738886400-1739145599@unser-dodendorf.de
SUMMARY:Raumblocker Sportlerheim
DESCRIPTION:
URL:https://unser-dodendorf.de/veranstaltungen/raumblocker-sportlerheim-40/
LOCATION:Sport- und Vereinsheim\, Sportplatz\, Dodendorf\, Sachsen-Anhalt\, 39171
CATEGORIES:Vereinskalender
END:VEVENT
BEGIN:VEVENT
DTSTART;TZID=Europe/Berlin:20250210T180000
DTEND;TZID=Europe/Berlin:20250210T190000
DTSTAMP:20260422T092341
CREATED:20240108T082623Z
LAST-MODIFIED:20250129T080245Z
UID:2484-1739210400-1739214000@unser-dodendorf.de
SUMMARY:Sportgruppe 1
DESCRIPTION:
URL:https://unser-dodendorf.de/veranstaltungen/sportgruppe-1-6/
LOCATION:Sport- und Vereinsheim\, Sportplatz\, Dodendorf\, Sachsen-Anhalt\, 39171
CATEGORIES:Vereinskalender
END:VEVENT
BEGIN:VEVENT
DTSTART;TZID=Europe/Berlin:20250212T093000
DTEND;TZID=Europe/Berlin:20250212T103000
DTSTAMP:20260422T092341
CREATED:20240108T083748Z
LAST-MODIFIED:20250113T153015Z
UID:2506-1739352600-1739356200@unser-dodendorf.de
SUMMARY:Sportgruppe Senioren
DESCRIPTION:
URL:https://unser-dodendorf.de/veranstaltungen/sportgruppe-senioren-6/
LOCATION:Sport- und Vereinsheim\, Sportplatz\, Dodendorf\, Sachsen-Anhalt\, 39171
CATEGORIES:Vereinskalender
END:VEVENT
BEGIN:VEVENT
DTSTART;VALUE=DATE:20250215
DTEND;VALUE=DATE:20250217
DTSTAMP:20260422T092341
CREATED:20250111T072405Z
LAST-MODIFIED:20250114T071944Z
UID:3682-1739577600-1739750399@unser-dodendorf.de
SUMMARY:Raumblocker Sportlerheim
DESCRIPTION:„Dorf-Bums“ Tanzveranstaltung 90er Techno Revival
URL:https://unser-dodendorf.de/veranstaltungen/dorf-bums-2/
LOCATION:Sport- und Vereinsheim\, Sportplatz\, Dodendorf\, Sachsen-Anhalt\, 39171
CATEGORIES:Vereinskalender
ORGANIZER;CN="Dodendorfer Heimatverein e.V.":MAILTO:heimatverein-dodendorf-ev@web.de
END:VEVENT
BEGIN:VEVENT
DTSTART;TZID=Europe/Berlin:20250217T180000
DTEND;TZID=Europe/Berlin:20250217T190000
DTSTAMP:20260422T092341
CREATED:20240108T082655Z
LAST-MODIFIED:20250129T080303Z
UID:2486-1739815200-1739818800@unser-dodendorf.de
SUMMARY:Sportgruppe 1
DESCRIPTION:
URL:https://unser-dodendorf.de/veranstaltungen/sportgruppe-1-7/
LOCATION:Sportplatz Dodendorf\, Sportplatz\, Sülzetal/Dodendorf\, Sachsen-Anhalt\, 39171
CATEGORIES:Vereinskalender
END:VEVENT
BEGIN:VEVENT
DTSTART;TZID=Europe/Berlin:20250219T093000
DTEND;TZID=Europe/Berlin:20250219T103000
DTSTAMP:20260422T092341
CREATED:20240108T083849Z
LAST-MODIFIED:20250113T153056Z
UID:2510-1739957400-1739961000@unser-dodendorf.de
SUMMARY:Sportgruppe Senioren
DESCRIPTION:
URL:https://unser-dodendorf.de/veranstaltungen/sportgruppe-senioren-8/
LOCATION:Sport- und Vereinsheim\, Sportplatz\, Dodendorf\, Sachsen-Anhalt\, 39171
CATEGORIES:Vereinskalender
END:VEVENT
BEGIN:VEVENT
DTSTART;TZID=Europe/Berlin:20250219T163000
DTEND;TZID=Europe/Berlin:20250219T173000
DTSTAMP:20260422T092341
CREATED:20240108T072530Z
LAST-MODIFIED:20250110T093422Z
UID:2458-1739982600-1739986200@unser-dodendorf.de
SUMMARY:Kindertreff
DESCRIPTION:Altersgruppe 6-10 \n\nTischtennis
URL:https://unser-dodendorf.de/veranstaltungen/kindertreff-3/
LOCATION:Sport- und Vereinsheim\, Sportplatz\, Dodendorf\, Sachsen-Anhalt\, 39171
CATEGORIES:Vereinskalender
ORGANIZER;CN="Dodendorfer Heimatverein e.V.":MAILTO:heimatverein-dodendorf-ev@web.de
END:VEVENT
BEGIN:VEVENT
DTSTART;VALUE=DATE:20250221
DTEND;VALUE=DATE:20250224
DTSTAMP:20260422T092341
CREATED:20241231T121432Z
LAST-MODIFIED:20241231T121432Z
UID:3604-1740096000-1740355199@unser-dodendorf.de
SUMMARY:Raumblocker Sportlerheim
DESCRIPTION:Bundestagswahl am 23.02.2025
URL:https://unser-dodendorf.de/veranstaltungen/raumblocker-sportlerheim-41/
LOCATION:Sport- und Vereinsheim\, Sportplatz\, Dodendorf\, Sachsen-Anhalt\, 39171
CATEGORIES:Vereinskalender
END:VEVENT
BEGIN:VEVENT
DTSTART;TZID=Europe/Berlin:20250224T180000
DTEND;TZID=Europe/Berlin:20250224T190000
DTSTAMP:20260422T092341
CREATED:20240108T082723Z
LAST-MODIFIED:20250129T080321Z
UID:2488-1740420000-1740423600@unser-dodendorf.de
SUMMARY:Sportgruppe 1
DESCRIPTION:
URL:https://unser-dodendorf.de/veranstaltungen/sportgruppe-1-8/
LOCATION:Sportplatz Dodendorf\, Sportplatz\, Sülzetal/Dodendorf\, Sachsen-Anhalt\, 39171
CATEGORIES:Vereinskalender
END:VEVENT
BEGIN:VEVENT
DTSTART;TZID=Europe/Berlin:20250226T093000
DTEND;TZID=Europe/Berlin:20250226T103000
DTSTAMP:20260422T092341
CREATED:20240108T083816Z
LAST-MODIFIED:20250113T153138Z
UID:2508-1740562200-1740565800@unser-dodendorf.de
SUMMARY:Sportgruppe Senioren
DESCRIPTION:
URL:https://unser-dodendorf.de/veranstaltungen/sportgruppe-senioren-7/
LOCATION:Sport- und Vereinsheim\, Sportplatz\, Dodendorf\, Sachsen-Anhalt\, 39171
CATEGORIES:Vereinskalender
END:VEVENT
END:VCALENDAR