BEGIN:VCALENDAR
VERSION:2.0
PRODID:-//Unser Dodendorf - ECPv6.15.14//NONSGML v1.0//EN
CALSCALE:GREGORIAN
METHOD:PUBLISH
X-WR-CALNAME:Unser Dodendorf
X-ORIGINAL-URL:https://unser-dodendorf.de
X-WR-CALDESC:Veranstaltungen für Unser Dodendorf
REFRESH-INTERVAL;VALUE=DURATION:PT1H
X-Robots-Tag:noindex
X-PUBLISHED-TTL:PT1H
BEGIN:VTIMEZONE
TZID:Europe/Berlin
BEGIN:DAYLIGHT
TZOFFSETFROM:+0100
TZOFFSETTO:+0200
TZNAME:CEST
DTSTART:20240331T010000
END:DAYLIGHT
BEGIN:STANDARD
TZOFFSETFROM:+0200
TZOFFSETTO:+0100
TZNAME:CET
DTSTART:20241027T010000
END:STANDARD
BEGIN:DAYLIGHT
TZOFFSETFROM:+0100
TZOFFSETTO:+0200
TZNAME:CEST
DTSTART:20250330T010000
END:DAYLIGHT
BEGIN:STANDARD
TZOFFSETFROM:+0200
TZOFFSETTO:+0100
TZNAME:CET
DTSTART:20251026T010000
END:STANDARD
BEGIN:DAYLIGHT
TZOFFSETFROM:+0100
TZOFFSETTO:+0200
TZNAME:CEST
DTSTART:20260329T010000
END:DAYLIGHT
BEGIN:STANDARD
TZOFFSETFROM:+0200
TZOFFSETTO:+0100
TZNAME:CET
DTSTART:20261025T010000
END:STANDARD
END:VTIMEZONE
BEGIN:VEVENT
DTSTART;TZID=Europe/Berlin:20250702T093000
DTEND;TZID=Europe/Berlin:20250702T103000
DTSTAMP:20260422T015121
CREATED:20240119T071022Z
LAST-MODIFIED:20250113T154147Z
UID:2897-1751448600-1751452200@unser-dodendorf.de
SUMMARY:Sportgruppe Senioren
DESCRIPTION:
URL:https://unser-dodendorf.de/veranstaltungen/sportgruppe-senioren-26/
LOCATION:Sport- und Vereinsheim\, Sportplatz\, Dodendorf\, Sachsen-Anhalt\, 39171
CATEGORIES:Vereinskalender
END:VEVENT
BEGIN:VEVENT
DTSTART;TZID=Europe/Berlin:20250707T180000
DTEND;TZID=Europe/Berlin:20250707T190000
DTSTAMP:20260422T015121
CREATED:20240119T065357Z
LAST-MODIFIED:20250129T080955Z
UID:2858-1751911200-1751914800@unser-dodendorf.de
SUMMARY:Sportgruppe 1
DESCRIPTION:
URL:https://unser-dodendorf.de/veranstaltungen/sportgruppe-1-29/
LOCATION:Sport- und Vereinsheim\, Sportplatz\, Dodendorf\, Sachsen-Anhalt\, 39171
CATEGORIES:Vereinskalender
END:VEVENT
BEGIN:VEVENT
DTSTART;TZID=Europe/Berlin:20250709T093000
DTEND;TZID=Europe/Berlin:20250709T103000
DTSTAMP:20260422T015121
CREATED:20240119T071055Z
LAST-MODIFIED:20250113T154247Z
UID:2899-1752053400-1752057000@unser-dodendorf.de
SUMMARY:Sportgruppe Senioren
DESCRIPTION:
URL:https://unser-dodendorf.de/veranstaltungen/sportgruppe-senioren-27/
LOCATION:Sport- und Vereinsheim\, Sportplatz\, Dodendorf\, Sachsen-Anhalt\, 39171
CATEGORIES:Vereinskalender
END:VEVENT
BEGIN:VEVENT
DTSTART;TZID=Europe/Berlin:20250714T180000
DTEND;TZID=Europe/Berlin:20250714T190000
DTSTAMP:20260422T015121
CREATED:20240119T065427Z
LAST-MODIFIED:20250129T081010Z
UID:2860-1752516000-1752519600@unser-dodendorf.de
SUMMARY:Sportgruppe 1
DESCRIPTION:
URL:https://unser-dodendorf.de/veranstaltungen/sportgruppe-1-30/
LOCATION:Sport- und Vereinsheim\, Sportplatz\, Dodendorf\, Sachsen-Anhalt\, 39171
CATEGORIES:Vereinskalender
END:VEVENT
BEGIN:VEVENT
DTSTART;TZID=Europe/Berlin:20250716T093000
DTEND;TZID=Europe/Berlin:20250716T103000
DTSTAMP:20260422T015121
CREATED:20240119T071220Z
LAST-MODIFIED:20250113T154307Z
UID:2903-1752658200-1752661800@unser-dodendorf.de
SUMMARY:Sportgruppe Senioren
DESCRIPTION:
URL:https://unser-dodendorf.de/veranstaltungen/sportgruppe-senioren-29/
LOCATION:Sport- und Vereinsheim\, Sportplatz\, Dodendorf\, Sachsen-Anhalt\, 39171
CATEGORIES:Vereinskalender
END:VEVENT
BEGIN:VEVENT
DTSTART;TZID=Europe/Berlin:20250721T180000
DTEND;TZID=Europe/Berlin:20250721T190000
DTSTAMP:20260422T015121
CREATED:20240119T065548Z
LAST-MODIFIED:20250129T081029Z
UID:2864-1753120800-1753124400@unser-dodendorf.de
SUMMARY:Sportgruppe 1
DESCRIPTION:
URL:https://unser-dodendorf.de/veranstaltungen/sportgruppe-1-32/
LOCATION:Sport- und Vereinsheim\, Sportplatz\, Dodendorf\, Sachsen-Anhalt\, 39171
CATEGORIES:Vereinskalender
END:VEVENT
BEGIN:VEVENT
DTSTART;TZID=Europe/Berlin:20250723T093000
DTEND;TZID=Europe/Berlin:20250723T103000
DTSTAMP:20260422T015121
CREATED:20240119T071156Z
LAST-MODIFIED:20250113T154339Z
UID:2901-1753263000-1753266600@unser-dodendorf.de
SUMMARY:Sportgruppe Senioren
DESCRIPTION:
URL:https://unser-dodendorf.de/veranstaltungen/sportgruppe-senioren-28/
LOCATION:Sport- und Vereinsheim\, Sportplatz\, Dodendorf\, Sachsen-Anhalt\, 39171
CATEGORIES:Vereinskalender
END:VEVENT
BEGIN:VEVENT
DTSTART;TZID=Europe/Berlin:20250728T180000
DTEND;TZID=Europe/Berlin:20250728T190000
DTSTAMP:20260422T015121
CREATED:20240119T065616Z
LAST-MODIFIED:20250129T081051Z
UID:2866-1753725600-1753729200@unser-dodendorf.de
SUMMARY:Sportgruppe 1
DESCRIPTION:
URL:https://unser-dodendorf.de/veranstaltungen/sportgruppe-1-33/
LOCATION:Sport- und Vereinsheim\, Sportplatz\, Dodendorf\, Sachsen-Anhalt\, 39171
CATEGORIES:Vereinskalender
END:VEVENT
BEGIN:VEVENT
DTSTART;TZID=Europe/Berlin:20250730T093000
DTEND;TZID=Europe/Berlin:20250730T103000
DTSTAMP:20260422T015121
CREATED:20240119T071249Z
LAST-MODIFIED:20250113T154401Z
UID:2905-1753867800-1753871400@unser-dodendorf.de
SUMMARY:Sportgruppe Senioren
DESCRIPTION:
URL:https://unser-dodendorf.de/veranstaltungen/sportgruppe-senioren-30/
LOCATION:Sport- und Vereinsheim\, Sportplatz\, Dodendorf\, Sachsen-Anhalt\, 39171
CATEGORIES:Vereinskalender
END:VEVENT
END:VCALENDAR