BEGIN:VCALENDAR
VERSION:2.0
PRODID:-//Unser Dodendorf - ECPv6.15.14//NONSGML v1.0//EN
CALSCALE:GREGORIAN
METHOD:PUBLISH
X-WR-CALNAME:Unser Dodendorf
X-ORIGINAL-URL:https://unser-dodendorf.de
X-WR-CALDESC:Veranstaltungen für Unser Dodendorf
REFRESH-INTERVAL;VALUE=DURATION:PT1H
X-Robots-Tag:noindex
X-PUBLISHED-TTL:PT1H
BEGIN:VTIMEZONE
TZID:Europe/Berlin
BEGIN:DAYLIGHT
TZOFFSETFROM:+0100
TZOFFSETTO:+0200
TZNAME:CEST
DTSTART:20240331T010000
END:DAYLIGHT
BEGIN:STANDARD
TZOFFSETFROM:+0200
TZOFFSETTO:+0100
TZNAME:CET
DTSTART:20241027T010000
END:STANDARD
BEGIN:DAYLIGHT
TZOFFSETFROM:+0100
TZOFFSETTO:+0200
TZNAME:CEST
DTSTART:20250330T010000
END:DAYLIGHT
BEGIN:STANDARD
TZOFFSETFROM:+0200
TZOFFSETTO:+0100
TZNAME:CET
DTSTART:20251026T010000
END:STANDARD
BEGIN:DAYLIGHT
TZOFFSETFROM:+0100
TZOFFSETTO:+0200
TZNAME:CEST
DTSTART:20260329T010000
END:DAYLIGHT
BEGIN:STANDARD
TZOFFSETFROM:+0200
TZOFFSETTO:+0100
TZNAME:CET
DTSTART:20261025T010000
END:STANDARD
END:VTIMEZONE
BEGIN:VEVENT
DTSTART;VALUE=DATE:20251001
DTEND;VALUE=DATE:20251004
DTSTAMP:20260421T212737
CREATED:20241231T122412Z
LAST-MODIFIED:20241231T122412Z
UID:3617-1759276800-1759535999@unser-dodendorf.de
SUMMARY:Raumblocker Sportlerheim
DESCRIPTION:
URL:https://unser-dodendorf.de/veranstaltungen/raumblocker-sportlerheim-47/
LOCATION:Sport- und Vereinsheim\, Sportplatz\, Dodendorf\, Sachsen-Anhalt\, 39171
CATEGORIES:Vereinskalender
END:VEVENT
BEGIN:VEVENT
DTSTART;TZID=Europe/Berlin:20251001T093000
DTEND;TZID=Europe/Berlin:20251001T103000
DTSTAMP:20260421T212737
CREATED:20240124T073150Z
LAST-MODIFIED:20250114T072541Z
UID:3134-1759311000-1759314600@unser-dodendorf.de
SUMMARY:Sportgruppe Senioren
DESCRIPTION:
URL:https://unser-dodendorf.de/veranstaltungen/sportgruppe-senioren-39/
LOCATION:Sport- und Vereinsheim\, Sportplatz\, Dodendorf\, Sachsen-Anhalt\, 39171
CATEGORIES:Vereinskalender
END:VEVENT
BEGIN:VEVENT
DTSTART;TZID=Europe/Berlin:20251001T163000
DTEND;TZID=Europe/Berlin:20251001T173000
DTSTAMP:20260421T212737
CREATED:20240112T062250Z
LAST-MODIFIED:20250110T094242Z
UID:2741-1759336200-1759339800@unser-dodendorf.de
SUMMARY:Kindertreff
DESCRIPTION:Altersgruppe 6-10 Jahren \n\nDrachen Basteln / Teil 1
URL:https://unser-dodendorf.de/veranstaltungen/kindertreff-18/
LOCATION:Sport- und Vereinsheim\, Sportplatz\, Dodendorf\, Sachsen-Anhalt\, 39171
CATEGORIES:Vereinskalender
ORGANIZER;CN="Dodendorfer Heimatverein e.V.":MAILTO:heimatverein-dodendorf-ev@web.de
END:VEVENT
BEGIN:VEVENT
DTSTART;VALUE=DATE:20251003
DTEND;VALUE=DATE:20251006
DTSTAMP:20260421T212737
CREATED:20250818T144604Z
LAST-MODIFIED:20250818T144604Z
UID:3736-1759449600-1759708799@unser-dodendorf.de
SUMMARY:Raumblocker Sportlerheim
DESCRIPTION:
URL:https://unser-dodendorf.de/veranstaltungen/raumblocker-sportlerheim-58/
LOCATION:Sport- und Vereinsheim\, Sportplatz\, Dodendorf\, Sachsen-Anhalt\, 39171
CATEGORIES:Vereinskalender
END:VEVENT
BEGIN:VEVENT
DTSTART;TZID=Europe/Berlin:20251006T180000
DTEND;TZID=Europe/Berlin:20251006T190000
DTSTAMP:20260421T212737
CREATED:20240124T062625Z
LAST-MODIFIED:20250129T081356Z
UID:3098-1759773600-1759777200@unser-dodendorf.de
SUMMARY:Sportgruppe 1
DESCRIPTION:
URL:https://unser-dodendorf.de/veranstaltungen/sportgruppe-1-43/
LOCATION:Sport- und Vereinsheim\, Sportplatz\, Dodendorf\, Sachsen-Anhalt\, 39171
CATEGORIES:Vereinskalender
END:VEVENT
BEGIN:VEVENT
DTSTART;TZID=Europe/Berlin:20251008T093000
DTEND;TZID=Europe/Berlin:20251008T103000
DTSTAMP:20260421T212737
CREATED:20240124T073217Z
LAST-MODIFIED:20250114T072559Z
UID:3136-1759915800-1759919400@unser-dodendorf.de
SUMMARY:Sportgruppe Senioren
DESCRIPTION:
URL:https://unser-dodendorf.de/veranstaltungen/sportgruppe-senioren-40/
LOCATION:Sport- und Vereinsheim\, Sportplatz\, Dodendorf\, Sachsen-Anhalt\, 39171
CATEGORIES:Vereinskalender
END:VEVENT
BEGIN:VEVENT
DTSTART;VALUE=DATE:20251010
DTEND;VALUE=DATE:20251013
DTSTAMP:20260421T212737
CREATED:20250818T144639Z
LAST-MODIFIED:20250818T144639Z
UID:3738-1760054400-1760313599@unser-dodendorf.de
SUMMARY:Raumblocker Sportlerheim
DESCRIPTION:
URL:https://unser-dodendorf.de/veranstaltungen/raumblocker-sportlerheim-59/
LOCATION:Sport- und Vereinsheim\, Sportplatz\, Dodendorf\, Sachsen-Anhalt\, 39171
CATEGORIES:Vereinskalender
END:VEVENT
BEGIN:VEVENT
DTSTART;TZID=Europe/Berlin:20251013T180000
DTEND;TZID=Europe/Berlin:20251013T190000
DTSTAMP:20260421T212737
CREATED:20240124T062654Z
LAST-MODIFIED:20250129T081414Z
UID:3100-1760378400-1760382000@unser-dodendorf.de
SUMMARY:Sportgruppe 1
DESCRIPTION:
URL:https://unser-dodendorf.de/veranstaltungen/sportgruppe-1-44/
LOCATION:Sport- und Vereinsheim\, Sportplatz\, Dodendorf\, Sachsen-Anhalt\, 39171
CATEGORIES:Vereinskalender
END:VEVENT
BEGIN:VEVENT
DTSTART;TZID=Europe/Berlin:20251015T093000
DTEND;TZID=Europe/Berlin:20251015T103000
DTSTAMP:20260421T212737
CREATED:20240124T073244Z
LAST-MODIFIED:20250114T072616Z
UID:3138-1760520600-1760524200@unser-dodendorf.de
SUMMARY:Sportgruppe Senioren
DESCRIPTION:
URL:https://unser-dodendorf.de/veranstaltungen/sportgruppe-senioren-41/
LOCATION:Sport- und Vereinsheim\, Sportplatz\, Dodendorf\, Sachsen-Anhalt\, 39171
CATEGORIES:Vereinskalender
END:VEVENT
BEGIN:VEVENT
DTSTART;VALUE=DATE:20251017
DTEND;VALUE=DATE:20251020
DTSTAMP:20260421T212737
CREATED:20250818T144746Z
LAST-MODIFIED:20250818T144746Z
UID:3740-1760659200-1760918399@unser-dodendorf.de
SUMMARY:Raumblocker Sportlerheim
DESCRIPTION:
URL:https://unser-dodendorf.de/veranstaltungen/raumblocker-sportlerheim-60/
LOCATION:Sport- und Vereinsheim\, Sportplatz\, Dodendorf\, Sachsen-Anhalt\, 39171
CATEGORIES:Vereinskalender
END:VEVENT
BEGIN:VEVENT
DTSTART;TZID=Europe/Berlin:20251018T100000
DTEND;TZID=Europe/Berlin:20251018T180000
DTSTAMP:20260421T212737
CREATED:20251018T063901Z
LAST-MODIFIED:20251018T063901Z
UID:3774-1760781600-1760810400@unser-dodendorf.de
SUMMARY:Vogelausstellung
DESCRIPTION:VZE Magdeburg
URL:https://unser-dodendorf.de/veranstaltungen/vogelausstellung/
LOCATION:Sport- und Vereinsheim\, Sportplatz\, Dodendorf\, Sachsen-Anhalt\, 39171
CATEGORIES:Veranstaltungen
END:VEVENT
BEGIN:VEVENT
DTSTART;TZID=Europe/Berlin:20251019T100000
DTEND;TZID=Europe/Berlin:20251019T150000
DTSTAMP:20260421T212737
CREATED:20251018T063957Z
LAST-MODIFIED:20251018T063957Z
UID:3776-1760868000-1760886000@unser-dodendorf.de
SUMMARY:Vogelausstellung
DESCRIPTION:VZE Magdeburg
URL:https://unser-dodendorf.de/veranstaltungen/vogelausstellung-2/
LOCATION:Sport- und Vereinsheim\, Sportplatz\, Dodendorf\, Sachsen-Anhalt\, 39171
CATEGORIES:Veranstaltungen
END:VEVENT
BEGIN:VEVENT
DTSTART;TZID=Europe/Berlin:20251020T180000
DTEND;TZID=Europe/Berlin:20251020T190000
DTSTAMP:20260421T212737
CREATED:20240124T062719Z
LAST-MODIFIED:20250129T081438Z
UID:3102-1760983200-1760986800@unser-dodendorf.de
SUMMARY:Sportgruppe 1
DESCRIPTION:
URL:https://unser-dodendorf.de/veranstaltungen/sportgruppe-1-45/
LOCATION:Sport- und Vereinsheim\, Sportplatz\, Dodendorf\, Sachsen-Anhalt\, 39171
CATEGORIES:Vereinskalender
END:VEVENT
BEGIN:VEVENT
DTSTART;TZID=Europe/Berlin:20251022T093000
DTEND;TZID=Europe/Berlin:20251022T103000
DTSTAMP:20260421T212737
CREATED:20240124T073312Z
LAST-MODIFIED:20250114T072638Z
UID:3140-1761125400-1761129000@unser-dodendorf.de
SUMMARY:Sportgruppe Senioren
DESCRIPTION:
URL:https://unser-dodendorf.de/veranstaltungen/sportgruppe-senioren-42/
LOCATION:Sport- und Vereinsheim\, Sportplatz\, Dodendorf\, Sachsen-Anhalt\, 39171
CATEGORIES:Vereinskalender
END:VEVENT
BEGIN:VEVENT
DTSTART;VALUE=DATE:20251024
DTEND;VALUE=DATE:20251027
DTSTAMP:20260421T212737
CREATED:20250130T182327Z
LAST-MODIFIED:20251003T172225Z
UID:3713-1761264000-1761523199@unser-dodendorf.de
SUMMARY:Raumblocker Sportlerheim
DESCRIPTION:
URL:https://unser-dodendorf.de/veranstaltungen/raumblocker-sportlerheim-53/
LOCATION:Sport- und Vereinsheim\, Sportplatz\, Dodendorf\, Sachsen-Anhalt\, 39171
CATEGORIES:Vereinskalender
END:VEVENT
BEGIN:VEVENT
DTSTART;VALUE=DATE:20251024
DTEND;VALUE=DATE:20251027
DTSTAMP:20260421T212737
CREATED:20250818T144843Z
LAST-MODIFIED:20250818T144843Z
UID:3742-1761264000-1761523199@unser-dodendorf.de
SUMMARY:Raumblocker Sportlerheim
DESCRIPTION:
URL:https://unser-dodendorf.de/veranstaltungen/raumblocker-sportlerheim-61/
LOCATION:Sport- und Vereinsheim\, Sportplatz\, Dodendorf\, Sachsen-Anhalt\, 39171
CATEGORIES:Vereinskalender
END:VEVENT
BEGIN:VEVENT
DTSTART;TZID=Europe/Berlin:20251027T180000
DTEND;TZID=Europe/Berlin:20251027T190000
DTSTAMP:20260421T212737
CREATED:20240124T062746Z
LAST-MODIFIED:20250129T081450Z
UID:3104-1761588000-1761591600@unser-dodendorf.de
SUMMARY:Sportgruppe 1
DESCRIPTION:
URL:https://unser-dodendorf.de/veranstaltungen/sportgruppe-1-46/
LOCATION:Sport- und Vereinsheim\, Sportplatz\, Dodendorf\, Sachsen-Anhalt\, 39171
CATEGORIES:Vereinskalender
END:VEVENT
BEGIN:VEVENT
DTSTART;TZID=Europe/Berlin:20251029T093000
DTEND;TZID=Europe/Berlin:20251029T103000
DTSTAMP:20260421T212737
CREATED:20240124T073338Z
LAST-MODIFIED:20250114T072656Z
UID:3142-1761730200-1761733800@unser-dodendorf.de
SUMMARY:Sportgruppe Senioren
DESCRIPTION:
URL:https://unser-dodendorf.de/veranstaltungen/sportgruppe-senioren-43/
LOCATION:Sport- und Vereinsheim\, Sportplatz\, Dodendorf\, Sachsen-Anhalt\, 39171
CATEGORIES:Vereinskalender
END:VEVENT
BEGIN:VEVENT
DTSTART;TZID=Europe/Berlin:20251029T163000
DTEND;TZID=Europe/Berlin:20251029T173000
DTSTAMP:20260421T212737
CREATED:20240112T062321Z
LAST-MODIFIED:20250110T094309Z
UID:2743-1761755400-1761759000@unser-dodendorf.de
SUMMARY:Kindertreff
DESCRIPTION:Altersgruppe 6-10 Jahren \n\nDrachen Basteln / Teil 2
URL:https://unser-dodendorf.de/veranstaltungen/kindertreff-19/
LOCATION:Sport- und Vereinsheim\, Sportplatz\, Dodendorf\, Sachsen-Anhalt\, 39171
CATEGORIES:Vereinskalender
ORGANIZER;CN="Dodendorfer Heimatverein e.V.":MAILTO:heimatverein-dodendorf-ev@web.de
END:VEVENT
END:VCALENDAR