BEGIN:VCALENDAR
VERSION:2.0
PRODID:-//Unser Dodendorf - ECPv6.15.14//NONSGML v1.0//EN
CALSCALE:GREGORIAN
METHOD:PUBLISH
X-WR-CALNAME:Unser Dodendorf
X-ORIGINAL-URL:https://unser-dodendorf.de
X-WR-CALDESC:Veranstaltungen für Unser Dodendorf
REFRESH-INTERVAL;VALUE=DURATION:PT1H
X-Robots-Tag:noindex
X-PUBLISHED-TTL:PT1H
BEGIN:VTIMEZONE
TZID:Europe/Berlin
BEGIN:DAYLIGHT
TZOFFSETFROM:+0100
TZOFFSETTO:+0200
TZNAME:CEST
DTSTART:20240331T010000
END:DAYLIGHT
BEGIN:STANDARD
TZOFFSETFROM:+0200
TZOFFSETTO:+0100
TZNAME:CET
DTSTART:20241027T010000
END:STANDARD
BEGIN:DAYLIGHT
TZOFFSETFROM:+0100
TZOFFSETTO:+0200
TZNAME:CEST
DTSTART:20250330T010000
END:DAYLIGHT
BEGIN:STANDARD
TZOFFSETFROM:+0200
TZOFFSETTO:+0100
TZNAME:CET
DTSTART:20251026T010000
END:STANDARD
BEGIN:DAYLIGHT
TZOFFSETFROM:+0100
TZOFFSETTO:+0200
TZNAME:CEST
DTSTART:20260329T010000
END:DAYLIGHT
BEGIN:STANDARD
TZOFFSETFROM:+0200
TZOFFSETTO:+0100
TZNAME:CET
DTSTART:20261025T010000
END:STANDARD
END:VTIMEZONE
BEGIN:VEVENT
DTSTART;TZID=Europe/Berlin:20251103T180000
DTEND;TZID=Europe/Berlin:20251103T190000
DTSTAMP:20260421T200723
CREATED:20240125T094514Z
LAST-MODIFIED:20250129T081501Z
UID:3181-1762192800-1762196400@unser-dodendorf.de
SUMMARY:Sportgruppe 1
DESCRIPTION:
URL:https://unser-dodendorf.de/veranstaltungen/sportgruppe-1-47/
LOCATION:Sport- und Vereinsheim\, Sportplatz\, Dodendorf\, Sachsen-Anhalt\, 39171
CATEGORIES:Vereinskalender
END:VEVENT
BEGIN:VEVENT
DTSTART;TZID=Europe/Berlin:20251105T093000
DTEND;TZID=Europe/Berlin:20251105T103000
DTSTAMP:20260421T200723
CREATED:20240125T095836Z
LAST-MODIFIED:20250114T072749Z
UID:3214-1762335000-1762338600@unser-dodendorf.de
SUMMARY:Sportgruppe Senioren
DESCRIPTION:
URL:https://unser-dodendorf.de/veranstaltungen/sportgruppe-senioren-44/
LOCATION:Sport- und Vereinsheim\, Sportplatz\, Dodendorf\, Sachsen-Anhalt\, 39171
CATEGORIES:Vereinskalender
END:VEVENT
BEGIN:VEVENT
DTSTART;VALUE=DATE:20251107
DTEND;VALUE=DATE:20251110
DTSTAMP:20260421T200723
CREATED:20240409T065437Z
LAST-MODIFIED:20240525T064212Z
UID:3419-1762473600-1762732799@unser-dodendorf.de
SUMMARY:Raumblocker Sportlerheim
DESCRIPTION:
URL:https://unser-dodendorf.de/veranstaltungen/raumblocker-sportlerheim-8/
LOCATION:Sport- und Vereinsheim\, Sportplatz\, Dodendorf\, Sachsen-Anhalt\, 39171
CATEGORIES:Vereinskalender
END:VEVENT
BEGIN:VEVENT
DTSTART;TZID=Europe/Berlin:20251107T170000
DTEND;TZID=Europe/Berlin:20251107T220000
DTSTAMP:20260421T200723
CREATED:20231128T083526Z
LAST-MODIFIED:20251105T131328Z
UID:2326-1762534800-1762552800@unser-dodendorf.de
SUMMARY:Stammtisch - Heimatstübchen
DESCRIPTION:
URL:https://unser-dodendorf.de/veranstaltungen/stammtisch/
LOCATION:Gemeinde Haus\, Dorfstraße 3\, Dodendorf\, Schasen-Anhalt\, 39171
CATEGORIES:Veranstaltungen
ORGANIZER;CN="Dodendorfer Heimatverein e.V.":MAILTO:heimatverein-dodendorf-ev@web.de
END:VEVENT
BEGIN:VEVENT
DTSTART;TZID=Europe/Berlin:20251110T180000
DTEND;TZID=Europe/Berlin:20251110T190000
DTSTAMP:20260421T200723
CREATED:20240125T094546Z
LAST-MODIFIED:20250129T081550Z
UID:3183-1762797600-1762801200@unser-dodendorf.de
SUMMARY:Sportgruppe 1
DESCRIPTION:
URL:https://unser-dodendorf.de/veranstaltungen/sportgruppe-1-48/
LOCATION:Sport- und Vereinsheim\, Sportplatz\, Dodendorf\, Sachsen-Anhalt\, 39171
CATEGORIES:Vereinskalender
END:VEVENT
BEGIN:VEVENT
DTSTART;TZID=Europe/Berlin:20251112T093000
DTEND;TZID=Europe/Berlin:20251112T103000
DTSTAMP:20260421T200723
CREATED:20240125T095902Z
LAST-MODIFIED:20250114T072805Z
UID:3216-1762939800-1762943400@unser-dodendorf.de
SUMMARY:Sportgruppe Senioren
DESCRIPTION:
URL:https://unser-dodendorf.de/veranstaltungen/sportgruppe-senioren-45/
LOCATION:Sport- und Vereinsheim\, Sportplatz\, Dodendorf\, Sachsen-Anhalt\, 39171
CATEGORIES:Vereinskalender
END:VEVENT
BEGIN:VEVENT
DTSTART;TZID=Europe/Berlin:20251112T163000
DTEND;TZID=Europe/Berlin:20251112T173000
DTSTAMP:20260421T200723
CREATED:20240112T062430Z
LAST-MODIFIED:20250110T094340Z
UID:2747-1762965000-1762968600@unser-dodendorf.de
SUMMARY:Kindertreff
DESCRIPTION:Altersgruppe 6-10 Jahren \n\nBasteln
URL:https://unser-dodendorf.de/veranstaltungen/kindertreff-21/
LOCATION:Sport- und Vereinsheim\, Sportplatz\, Dodendorf\, Sachsen-Anhalt\, 39171
CATEGORIES:Vereinskalender
ORGANIZER;CN="Dodendorfer Heimatverein e.V.":MAILTO:heimatverein-dodendorf-ev@web.de
END:VEVENT
BEGIN:VEVENT
DTSTART;TZID=Europe/Berlin:20251117T180000
DTEND;TZID=Europe/Berlin:20251117T190000
DTSTAMP:20260421T200723
CREATED:20240125T094621Z
LAST-MODIFIED:20250129T081609Z
UID:3185-1763402400-1763406000@unser-dodendorf.de
SUMMARY:Sportgruppe 1
DESCRIPTION:
URL:https://unser-dodendorf.de/veranstaltungen/sportgruppe-1-49/
LOCATION:Sport- und Vereinsheim\, Sportplatz\, Dodendorf\, Sachsen-Anhalt\, 39171
CATEGORIES:Vereinskalender
END:VEVENT
BEGIN:VEVENT
DTSTART;TZID=Europe/Berlin:20251119T093000
DTEND;TZID=Europe/Berlin:20251119T103000
DTSTAMP:20260421T200723
CREATED:20240125T095930Z
LAST-MODIFIED:20250114T072900Z
UID:3218-1763544600-1763548200@unser-dodendorf.de
SUMMARY:Sportgruppe Senioren
DESCRIPTION:
URL:https://unser-dodendorf.de/veranstaltungen/sportgruppe-senioren-46/
LOCATION:Sport- und Vereinsheim\, Sportplatz\, Dodendorf\, Sachsen-Anhalt\, 39171
CATEGORIES:Vereinskalender
END:VEVENT
BEGIN:VEVENT
DTSTART;VALUE=DATE:20251121
DTEND;VALUE=DATE:20251124
DTSTAMP:20260421T200723
CREATED:20241231T122507Z
LAST-MODIFIED:20241231T122507Z
UID:3619-1763683200-1763942399@unser-dodendorf.de
SUMMARY:Raumblocker Sportlerheim
DESCRIPTION:
URL:https://unser-dodendorf.de/veranstaltungen/raumblocker-sportlerheim-48/
LOCATION:Sport- und Vereinsheim\, Sportplatz\, Dodendorf\, Sachsen-Anhalt\, 39171
CATEGORIES:Vereinskalender
END:VEVENT
BEGIN:VEVENT
DTSTART;TZID=Europe/Berlin:20251124T180000
DTEND;TZID=Europe/Berlin:20251124T190000
DTSTAMP:20260421T200723
CREATED:20240125T094649Z
LAST-MODIFIED:20250129T081619Z
UID:3187-1764007200-1764010800@unser-dodendorf.de
SUMMARY:Sportgruppe 1
DESCRIPTION:
URL:https://unser-dodendorf.de/veranstaltungen/sportgruppe-1-50/
LOCATION:Sport- und Vereinsheim\, Sportplatz\, Dodendorf\, Sachsen-Anhalt\, 39171
CATEGORIES:Vereinskalender
END:VEVENT
BEGIN:VEVENT
DTSTART;TZID=Europe/Berlin:20251126T093000
DTEND;TZID=Europe/Berlin:20251126T103000
DTSTAMP:20260421T200723
CREATED:20240125T095959Z
LAST-MODIFIED:20250114T073102Z
UID:3220-1764149400-1764153000@unser-dodendorf.de
SUMMARY:Sportgruppe Senioren
DESCRIPTION:
URL:https://unser-dodendorf.de/veranstaltungen/sportgruppe-senioren-47/
LOCATION:Sport- und Vereinsheim\, Sportplatz\, Dodendorf\, Sachsen-Anhalt\, 39171
CATEGORIES:Vereinskalender
END:VEVENT
BEGIN:VEVENT
DTSTART;TZID=Europe/Berlin:20251126T163000
DTEND;TZID=Europe/Berlin:20251126T173000
DTSTAMP:20260421T200723
CREATED:20240115T065934Z
LAST-MODIFIED:20250110T094406Z
UID:2814-1764174600-1764178200@unser-dodendorf.de
SUMMARY:Kindertreff
DESCRIPTION:Altersgruppe 6-10 Jahren \n\nKochen
URL:https://unser-dodendorf.de/veranstaltungen/kindertreff-22/
LOCATION:Sport- und Vereinsheim\, Sportplatz\, Dodendorf\, Sachsen-Anhalt\, 39171
CATEGORIES:Vereinskalender
ORGANIZER;CN="Dodendorfer Heimatverein e.V.":MAILTO:heimatverein-dodendorf-ev@web.de
END:VEVENT
BEGIN:VEVENT
DTSTART;VALUE=DATE:20251128
DTEND;VALUE=DATE:20251201
DTSTAMP:20260421T200723
CREATED:20241231T122704Z
LAST-MODIFIED:20241231T122704Z
UID:3621-1764288000-1764547199@unser-dodendorf.de
SUMMARY:Raumblocker Sportlerheim
DESCRIPTION:
URL:https://unser-dodendorf.de/veranstaltungen/raumblocker-sportlerheim-49/
LOCATION:Sachsen-Anhalt
CATEGORIES:Vereinskalender
END:VEVENT
END:VCALENDAR