BEGIN:VCALENDAR
VERSION:2.0
PRODID:-//Unser Dodendorf - ECPv6.15.14//NONSGML v1.0//EN
CALSCALE:GREGORIAN
METHOD:PUBLISH
X-ORIGINAL-URL:https://unser-dodendorf.de
X-WR-CALDESC:Veranstaltungen für Unser Dodendorf
REFRESH-INTERVAL;VALUE=DURATION:PT1H
X-Robots-Tag:noindex
X-PUBLISHED-TTL:PT1H
BEGIN:VTIMEZONE
TZID:Europe/Berlin
BEGIN:DAYLIGHT
TZOFFSETFROM:+0100
TZOFFSETTO:+0200
TZNAME:CEST
DTSTART:20250330T010000
END:DAYLIGHT
BEGIN:STANDARD
TZOFFSETFROM:+0200
TZOFFSETTO:+0100
TZNAME:CET
DTSTART:20251026T010000
END:STANDARD
BEGIN:DAYLIGHT
TZOFFSETFROM:+0100
TZOFFSETTO:+0200
TZNAME:CEST
DTSTART:20260329T010000
END:DAYLIGHT
BEGIN:STANDARD
TZOFFSETFROM:+0200
TZOFFSETTO:+0100
TZNAME:CET
DTSTART:20261025T010000
END:STANDARD
BEGIN:DAYLIGHT
TZOFFSETFROM:+0100
TZOFFSETTO:+0200
TZNAME:CEST
DTSTART:20270328T010000
END:DAYLIGHT
BEGIN:STANDARD
TZOFFSETFROM:+0200
TZOFFSETTO:+0100
TZNAME:CET
DTSTART:20271031T010000
END:STANDARD
END:VTIMEZONE
BEGIN:VEVENT
DTSTART;VALUE=DATE:20260123
DTEND;VALUE=DATE:20260205
DTSTAMP:20260421T160054
CREATED:20251228T094436Z
LAST-MODIFIED:20251228T094436Z
UID:3808-1769126400-1770249599@unser-dodendorf.de
SUMMARY:Raumblocker Sportlerheim
DESCRIPTION:
URL:https://unser-dodendorf.de/veranstaltungen/raumblocker-sportlerheim-74/
LOCATION:Sport- und Vereinsheim\, Sportplatz\, Dodendorf\, Sachsen-Anhalt\, 39171
CATEGORIES:Vereinskalender
END:VEVENT
BEGIN:VEVENT
DTSTART;TZID=Europe/Berlin:20260203T080000
DTEND;TZID=Europe/Berlin:20260203T170000
DTSTAMP:20260421T160054
CREATED:20240108T071018Z
LAST-MODIFIED:20251228T103550Z
UID:2433-1770105600-1770138000@unser-dodendorf.de
SUMMARY:Jugendtreff Dodendorf
DESCRIPTION:Altersgruppe 10-18 Jahren
URL:https://unser-dodendorf.de/veranstaltungen/jugendtreff-dodendorf-4/
LOCATION:Sport- und Vereinsheim\, Sportplatz\, Dodendorf\, Sachsen-Anhalt\, 39171
CATEGORIES:Vereinskalender
ORGANIZER;CN="Dodendorfer Heimatverein e.V.":MAILTO:heimatverein-dodendorf-ev@web.de
END:VEVENT
BEGIN:VEVENT
DTSTART;VALUE=DATE:20260205
DTEND;VALUE=DATE:20260208
DTSTAMP:20260421T160054
CREATED:20251228T095152Z
LAST-MODIFIED:20251228T095152Z
UID:3814-1770249600-1770508799@unser-dodendorf.de
SUMMARY:Raumblocker Sportlerheim
DESCRIPTION:
URL:https://unser-dodendorf.de/veranstaltungen/raumblocker-sportlerheim-77/
LOCATION:Sport- und Vereinsheim\, Sportplatz\, Dodendorf\, Sachsen-Anhalt\, 39171
CATEGORIES:Vereinskalender
END:VEVENT
BEGIN:VEVENT
DTSTART;TZID=Europe/Berlin:20260205T140000
DTEND;TZID=Europe/Berlin:20260205T160000
DTSTAMP:20260421T160054
CREATED:20240108T084922Z
LAST-MODIFIED:20251227T154351Z
UID:2532-1770300000-1770307200@unser-dodendorf.de
SUMMARY:Kegeln
DESCRIPTION:
URL:https://unser-dodendorf.de/veranstaltungen/kegeln-5/
LOCATION:Sportplatz Dodendorf\, Sportplatz\, Sülzetal/Dodendorf\, Sachsen-Anhalt\, 39171
CATEGORIES:Vereinskalender
END:VEVENT
BEGIN:VEVENT
DTSTART;TZID=Europe/Berlin:20260205T180000
DTEND;TZID=Europe/Berlin:20260205T190000
DTSTAMP:20260421T160054
CREATED:20240108T085536Z
LAST-MODIFIED:20251227T160308Z
UID:2544-1770314400-1770318000@unser-dodendorf.de
SUMMARY:Tischtennis
DESCRIPTION:
URL:https://unser-dodendorf.de/veranstaltungen/tischtennis-6/
LOCATION:Sport- und Vereinsheim\, Sportplatz\, Dodendorf\, Sachsen-Anhalt\, 39171
CATEGORIES:Vereinskalender
END:VEVENT
BEGIN:VEVENT
DTSTART;TZID=Europe/Berlin:20260210T170000
DTEND;TZID=Europe/Berlin:20260210T190000
DTSTAMP:20260421T160054
CREATED:20240108T083354Z
LAST-MODIFIED:20251228T103604Z
UID:2498-1770742800-1770750000@unser-dodendorf.de
SUMMARY:Jugendtreff Dodendorf
DESCRIPTION:Altersgruppe 10-18 Jahren
URL:https://unser-dodendorf.de/veranstaltungen/jugendtreff-dodendorf-6/
LOCATION:Sport- und Vereinsheim\, Sportplatz\, Dodendorf\, Sachsen-Anhalt\, 39171
CATEGORIES:Vereinskalender
ORGANIZER;CN="Dodendorfer Heimatverein e.V.":MAILTO:heimatverein-dodendorf-ev@web.de
END:VEVENT
BEGIN:VEVENT
DTSTART;TZID=Europe/Berlin:20260211T140000
DTEND;TZID=Europe/Berlin:20260211T170000
DTSTAMP:20260421T160054
CREATED:20240108T084458Z
LAST-MODIFIED:20251227T165159Z
UID:2520-1770818400-1770829200@unser-dodendorf.de
SUMMARY:Volkssolidarität
DESCRIPTION:
URL:https://unser-dodendorf.de/veranstaltungen/volkssolidaritaet-2/
LOCATION:Sport- und Vereinsheim\, Sportplatz\, Dodendorf\, Sachsen-Anhalt\, 39171
CATEGORIES:Vereinskalender
END:VEVENT
BEGIN:VEVENT
DTSTART;TZID=Europe/Berlin:20260212T140000
DTEND;TZID=Europe/Berlin:20260212T160000
DTSTAMP:20260421T160054
CREATED:20240108T084952Z
LAST-MODIFIED:20251227T154402Z
UID:2534-1770904800-1770912000@unser-dodendorf.de
SUMMARY:Kegeln
DESCRIPTION:
URL:https://unser-dodendorf.de/veranstaltungen/kegeln-6/
LOCATION:Sportplatz Dodendorf\, Sportplatz\, Sülzetal/Dodendorf\, Sachsen-Anhalt\, 39171
CATEGORIES:Vereinskalender
END:VEVENT
BEGIN:VEVENT
DTSTART;TZID=Europe/Berlin:20260212T180000
DTEND;TZID=Europe/Berlin:20260212T190000
DTSTAMP:20260421T160054
CREATED:20240108T085601Z
LAST-MODIFIED:20251227T160353Z
UID:2546-1770919200-1770922800@unser-dodendorf.de
SUMMARY:Tischtennis
DESCRIPTION:
URL:https://unser-dodendorf.de/veranstaltungen/tischtennis-7/
LOCATION:Sport- und Vereinsheim\, Sportplatz\, Dodendorf\, Sachsen-Anhalt\, 39171
CATEGORIES:Vereinskalender
END:VEVENT
BEGIN:VEVENT
DTSTART;TZID=Europe/Berlin:20260214T150000
DTEND;TZID=Europe/Berlin:20260214T200000
DTSTAMP:20260421T160054
CREATED:20231128T084753Z
LAST-MODIFIED:20251227T173833Z
UID:2339-1771081200-1771099200@unser-dodendorf.de
SUMMARY:Kinderfasching
DESCRIPTION:
URL:https://unser-dodendorf.de/veranstaltungen/kinderfasching-2/
LOCATION:Sport- und Vereinsheim\, Sportplatz\, Dodendorf\, Sachsen-Anhalt\, 39171
CATEGORIES:Veranstaltungen
ORGANIZER;CN="Dodendorfer Heimatverein e.V.":MAILTO:heimatverein-dodendorf-ev@web.de
END:VEVENT
BEGIN:VEVENT
DTSTART;TZID=Europe/Berlin:20260217T170000
DTEND;TZID=Europe/Berlin:20260217T190000
DTSTAMP:20260421T160054
CREATED:20240108T083433Z
LAST-MODIFIED:20251228T103614Z
UID:2500-1771347600-1771354800@unser-dodendorf.de
SUMMARY:Jugendtreff Dodendorf
DESCRIPTION:Altersgruppe 10-18 Jahren
URL:https://unser-dodendorf.de/veranstaltungen/jugendtreff-dodendorf-7/
LOCATION:Sport- und Vereinsheim\, Sportplatz\, Dodendorf\, Sachsen-Anhalt\, 39171
CATEGORIES:Vereinskalender
ORGANIZER;CN="Dodendorfer Heimatverein e.V.":MAILTO:heimatverein-dodendorf-ev@web.de
END:VEVENT
BEGIN:VEVENT
DTSTART;TZID=Europe/Berlin:20260219T140000
DTEND;TZID=Europe/Berlin:20260219T160000
DTSTAMP:20260421T160054
CREATED:20240108T085020Z
LAST-MODIFIED:20251227T154414Z
UID:2536-1771509600-1771516800@unser-dodendorf.de
SUMMARY:Kegeln
DESCRIPTION:
URL:https://unser-dodendorf.de/veranstaltungen/kegeln-7/
LOCATION:Sportplatz Dodendorf\, Sportplatz\, Sülzetal/Dodendorf\, Sachsen-Anhalt\, 39171
CATEGORIES:Vereinskalender
END:VEVENT
BEGIN:VEVENT
DTSTART;TZID=Europe/Berlin:20260219T180000
DTEND;TZID=Europe/Berlin:20260219T190000
DTSTAMP:20260421T160054
CREATED:20240108T085626Z
LAST-MODIFIED:20251227T160407Z
UID:2548-1771524000-1771527600@unser-dodendorf.de
SUMMARY:Tischtennis
DESCRIPTION:
URL:https://unser-dodendorf.de/veranstaltungen/tischtennis-8/
LOCATION:Sport- und Vereinsheim\, Sportplatz\, Dodendorf\, Sachsen-Anhalt\, 39171
CATEGORIES:Vereinskalender
END:VEVENT
BEGIN:VEVENT
DTSTART;VALUE=DATE:20260220
DTEND;VALUE=DATE:20260223
DTSTAMP:20260421T160054
CREATED:20251228T094935Z
LAST-MODIFIED:20251228T094935Z
UID:3812-1771545600-1771804799@unser-dodendorf.de
SUMMARY:Raumblocker Sportlerheim
DESCRIPTION:
URL:https://unser-dodendorf.de/veranstaltungen/raumblocker-sportlerheim-76/
LOCATION:Sport- und Vereinsheim\, Sportplatz\, Dodendorf\, Sachsen-Anhalt\, 39171
CATEGORIES:Vereinskalender
END:VEVENT
BEGIN:VEVENT
DTSTART;TZID=Europe/Berlin:20260220T170000
DTEND;TZID=Europe/Berlin:20260220T180000
DTSTAMP:20260421T160054
CREATED:20251227T162908Z
LAST-MODIFIED:20251227T162908Z
UID:3794-1771606800-1771610400@unser-dodendorf.de
SUMMARY:Kaninchenverein - Sitzung
DESCRIPTION:
URL:https://unser-dodendorf.de/veranstaltungen/kaninchenverein-sitzung-2/
LOCATION:Sport- und Vereinsheim\, Sportplatz\, Dodendorf\, Sachsen-Anhalt\, 39171
CATEGORIES:Vereinskalender
END:VEVENT
BEGIN:VEVENT
DTSTART;TZID=Europe/Berlin:20260224T170000
DTEND;TZID=Europe/Berlin:20260224T190000
DTSTAMP:20260421T160054
CREATED:20240108T083510Z
LAST-MODIFIED:20251228T103623Z
UID:2502-1771952400-1771959600@unser-dodendorf.de
SUMMARY:Jugendtreff Dodendorf
DESCRIPTION:Altersgruppe 10-18 Jahren
URL:https://unser-dodendorf.de/veranstaltungen/jugendtreff-dodendorf-8/
LOCATION:Sport- und Vereinsheim\, Sportplatz\, Dodendorf\, Sachsen-Anhalt\, 39171
CATEGORIES:Vereinskalender
ORGANIZER;CN="Dodendorfer Heimatverein e.V.":MAILTO:heimatverein-dodendorf-ev@web.de
END:VEVENT
BEGIN:VEVENT
DTSTART;TZID=Europe/Berlin:20260226T140000
DTEND;TZID=Europe/Berlin:20260226T160000
DTSTAMP:20260421T160054
CREATED:20240108T085048Z
LAST-MODIFIED:20251227T154424Z
UID:2538-1772114400-1772121600@unser-dodendorf.de
SUMMARY:Kegeln
DESCRIPTION:
URL:https://unser-dodendorf.de/veranstaltungen/kegeln-8/
LOCATION:Sportplatz Dodendorf\, Sportplatz\, Sülzetal/Dodendorf\, Sachsen-Anhalt\, 39171
CATEGORIES:Vereinskalender
END:VEVENT
BEGIN:VEVENT
DTSTART;TZID=Europe/Berlin:20260227T160000
DTEND;TZID=Europe/Berlin:20260227T220000
DTSTAMP:20260421T160054
CREATED:20231128T083833Z
LAST-MODIFIED:20251228T094703Z
UID:2335-1772208000-1772229600@unser-dodendorf.de
SUMMARY:Stammtisch
DESCRIPTION:
URL:https://unser-dodendorf.de/veranstaltungen/stammtisch-3/
LOCATION:Sport- und Vereinsheim\, Sportplatz\, Dodendorf\, Sachsen-Anhalt\, 39171
CATEGORIES:Veranstaltungen
ORGANIZER;CN="Dodendorfer Heimatverein e.V.":MAILTO:heimatverein-dodendorf-ev@web.de
END:VEVENT
BEGIN:VEVENT
DTSTART;VALUE=DATE:20260228
DTEND;VALUE=DATE:20260301
DTSTAMP:20260421T160054
CREATED:20251228T094741Z
LAST-MODIFIED:20251228T094741Z
UID:3810-1772236800-1772323199@unser-dodendorf.de
SUMMARY:Raumblocker Sportlerheim
DESCRIPTION:
URL:https://unser-dodendorf.de/veranstaltungen/raumblocker-sportlerheim-75/
LOCATION:Sport- und Vereinsheim\, Sportplatz\, Dodendorf\, Sachsen-Anhalt\, 39171
CATEGORIES:Vereinskalender
END:VEVENT
BEGIN:VEVENT
DTSTART;TZID=Europe/Berlin:20260228T084500
DTEND;TZID=Europe/Berlin:20260228T160000
DTSTAMP:20260421T160054
CREATED:20260228T073129Z
LAST-MODIFIED:20260228T073349Z
UID:3850-1772268300-1772294400@unser-dodendorf.de
SUMMARY:Tischtennis Turnier
DESCRIPTION:
URL:https://unser-dodendorf.de/veranstaltungen/tischtennis-turnier/
LOCATION:Sport- und Vereinsheim\, Sportplatz\, Dodendorf\, Sachsen-Anhalt\, 39171
CATEGORIES:Veranstaltungen
END:VEVENT
END:VCALENDAR