BEGIN:VCALENDAR
VERSION:2.0
PRODID:-//Unser Dodendorf - ECPv6.15.14//NONSGML v1.0//EN
CALSCALE:GREGORIAN
METHOD:PUBLISH
X-WR-CALNAME:Unser Dodendorf
X-ORIGINAL-URL:https://unser-dodendorf.de
X-WR-CALDESC:Veranstaltungen für Unser Dodendorf
REFRESH-INTERVAL;VALUE=DURATION:PT1H
X-Robots-Tag:noindex
X-PUBLISHED-TTL:PT1H
BEGIN:VTIMEZONE
TZID:Europe/Berlin
BEGIN:DAYLIGHT
TZOFFSETFROM:+0100
TZOFFSETTO:+0200
TZNAME:CEST
DTSTART:20250330T010000
END:DAYLIGHT
BEGIN:STANDARD
TZOFFSETFROM:+0200
TZOFFSETTO:+0100
TZNAME:CET
DTSTART:20251026T010000
END:STANDARD
BEGIN:DAYLIGHT
TZOFFSETFROM:+0100
TZOFFSETTO:+0200
TZNAME:CEST
DTSTART:20260329T010000
END:DAYLIGHT
BEGIN:STANDARD
TZOFFSETFROM:+0200
TZOFFSETTO:+0100
TZNAME:CET
DTSTART:20261025T010000
END:STANDARD
BEGIN:DAYLIGHT
TZOFFSETFROM:+0100
TZOFFSETTO:+0200
TZNAME:CEST
DTSTART:20270328T010000
END:DAYLIGHT
BEGIN:STANDARD
TZOFFSETFROM:+0200
TZOFFSETTO:+0100
TZNAME:CET
DTSTART:20271031T010000
END:STANDARD
END:VTIMEZONE
BEGIN:VEVENT
DTSTART;TZID=Europe/Berlin:20261001T140000
DTEND;TZID=Europe/Berlin:20261001T160000
DTSTAMP:20260421T212737
CREATED:20240124T073810Z
LAST-MODIFIED:20251227T155302Z
UID:3154-1790863200-1790870400@unser-dodendorf.de
SUMMARY:Kegeln
DESCRIPTION:
URL:https://unser-dodendorf.de/veranstaltungen/kegeln-39/
LOCATION:Sportplatz Dodendorf\, Sportplatz\, Sülzetal/Dodendorf\, Sachsen-Anhalt\, 39171
CATEGORIES:Vereinskalender
END:VEVENT
BEGIN:VEVENT
DTSTART;TZID=Europe/Berlin:20261001T180000
DTEND;TZID=Europe/Berlin:20261001T190000
DTSTAMP:20260421T212737
CREATED:20240124T074046Z
LAST-MODIFIED:20251227T161545Z
UID:3164-1790877600-1790881200@unser-dodendorf.de
SUMMARY:Tischtennis
DESCRIPTION:
URL:https://unser-dodendorf.de/veranstaltungen/tischtennis-39/
LOCATION:Sport- und Vereinsheim\, Sportplatz\, Dodendorf\, Sachsen-Anhalt\, 39171
CATEGORIES:Vereinskalender
END:VEVENT
BEGIN:VEVENT
DTSTART;VALUE=DATE:20261002
DTEND;VALUE=DATE:20261005
DTSTAMP:20260421T212737
CREATED:20241005T061403Z
LAST-MODIFIED:20260128T094813Z
UID:3527-1790899200-1791158399@unser-dodendorf.de
SUMMARY:Raumblocker Sportlerheim
DESCRIPTION:
URL:https://unser-dodendorf.de/veranstaltungen/raumblocker-sportlerheim-28/
LOCATION:Sport- und Vereinsheim\, Sportplatz\, Dodendorf\, Sachsen-Anhalt\, 39171
CATEGORIES:Vereinskalender
END:VEVENT
BEGIN:VEVENT
DTSTART;TZID=Europe/Berlin:20261002T160000
DTEND;TZID=Europe/Berlin:20261002T233000
DTSTAMP:20260421T212737
CREATED:20231128T101654Z
LAST-MODIFIED:20260128T101118Z
UID:2366-1790956800-1790983800@unser-dodendorf.de
SUMMARY:Feier zum Tag der Dt. Einheit
DESCRIPTION:
URL:https://unser-dodendorf.de/veranstaltungen/einheitsfeier/
LOCATION:Sportplatz Dodendorf\, Sportplatz\, Sülzetal/Dodendorf\, Sachsen-Anhalt\, 39171
CATEGORIES:Veranstaltungen
ORGANIZER;CN="Dodendorfer Heimatverein e.V.":MAILTO:heimatverein-dodendorf-ev@web.de
END:VEVENT
BEGIN:VEVENT
DTSTART;TZID=Europe/Berlin:20261006T170000
DTEND;TZID=Europe/Berlin:20261006T190000
DTSTAMP:20260421T212737
CREATED:20240124T063220Z
LAST-MODIFIED:20251228T104852Z
UID:3116-1791306000-1791313200@unser-dodendorf.de
SUMMARY:Jugendtreff Dodendorf
DESCRIPTION:Altersgruppe 10-18 Jahren
URL:https://unser-dodendorf.de/veranstaltungen/jugendtreff-dodendorf-40/
LOCATION:Sport- und Vereinsheim\, Sportplatz\, Dodendorf\, Sachsen-Anhalt\, 39171
CATEGORIES:Vereinskalender
ORGANIZER;CN="Dodendorfer Heimatverein e.V.":MAILTO:heimatverein-dodendorf-ev@web.de
END:VEVENT
BEGIN:VEVENT
DTSTART;TZID=Europe/Berlin:20261008T140000
DTEND;TZID=Europe/Berlin:20261008T160000
DTSTAMP:20260421T212737
CREATED:20240124T073834Z
LAST-MODIFIED:20251227T155313Z
UID:3156-1791468000-1791475200@unser-dodendorf.de
SUMMARY:Kegeln
DESCRIPTION:
URL:https://unser-dodendorf.de/veranstaltungen/kegeln-40/
LOCATION:Sportplatz Dodendorf\, Sportplatz\, Sülzetal/Dodendorf\, Sachsen-Anhalt\, 39171
CATEGORIES:Vereinskalender
END:VEVENT
BEGIN:VEVENT
DTSTART;TZID=Europe/Berlin:20261008T180000
DTEND;TZID=Europe/Berlin:20261008T190000
DTSTAMP:20260421T212737
CREATED:20240124T074119Z
LAST-MODIFIED:20251227T161554Z
UID:3166-1791482400-1791486000@unser-dodendorf.de
SUMMARY:Tischtennis
DESCRIPTION:
URL:https://unser-dodendorf.de/veranstaltungen/tischtennis-40/
LOCATION:Sport- und Vereinsheim\, Sportplatz\, Dodendorf\, Sachsen-Anhalt\, 39171
CATEGORIES:Vereinskalender
END:VEVENT
BEGIN:VEVENT
DTSTART;TZID=Europe/Berlin:20261009T130000
DTEND;TZID=Europe/Berlin:20261011T130000
DTSTAMP:20260421T212737
CREATED:20240409T065946Z
LAST-MODIFIED:20260128T095347Z
UID:3429-1791550800-1791723600@unser-dodendorf.de
SUMMARY:Raumblocker Sportlerheim
DESCRIPTION:
URL:https://unser-dodendorf.de/veranstaltungen/raumblocker-sportlerheim-13/
LOCATION:Sachsen-Anhalt
CATEGORIES:Vereinskalender
END:VEVENT
BEGIN:VEVENT
DTSTART;TZID=Europe/Berlin:20261013T170000
DTEND;TZID=Europe/Berlin:20261013T190000
DTSTAMP:20260421T212737
CREATED:20240124T063302Z
LAST-MODIFIED:20251228T104840Z
UID:3118-1791910800-1791918000@unser-dodendorf.de
SUMMARY:Jugendtreff Dodendorf
DESCRIPTION:Altersgruppe 10-18 Jahren
URL:https://unser-dodendorf.de/veranstaltungen/jugendtreff-dodendorf-41/
LOCATION:Sport- und Vereinsheim\, Sportplatz\, Dodendorf\, Sachsen-Anhalt\, 39171
CATEGORIES:Vereinskalender
ORGANIZER;CN="Dodendorfer Heimatverein e.V.":MAILTO:heimatverein-dodendorf-ev@web.de
END:VEVENT
BEGIN:VEVENT
DTSTART;TZID=Europe/Berlin:20261014T140000
DTEND;TZID=Europe/Berlin:20261014T170000
DTSTAMP:20260421T212737
CREATED:20240111T070254Z
LAST-MODIFIED:20251227T165644Z
UID:2709-1791986400-1791997200@unser-dodendorf.de
SUMMARY:Volkssolidarität
DESCRIPTION:
URL:https://unser-dodendorf.de/veranstaltungen/volkssolidaritaet-8/
LOCATION:Sport- und Vereinsheim\, Sportplatz\, Dodendorf\, Sachsen-Anhalt\, 39171
CATEGORIES:Vereinskalender
END:VEVENT
BEGIN:VEVENT
DTSTART;TZID=Europe/Berlin:20261015T140000
DTEND;TZID=Europe/Berlin:20261015T160000
DTSTAMP:20260421T212737
CREATED:20240124T073901Z
LAST-MODIFIED:20251227T155325Z
UID:3158-1792072800-1792080000@unser-dodendorf.de
SUMMARY:Kegeln
DESCRIPTION:
URL:https://unser-dodendorf.de/veranstaltungen/kegeln-41/
LOCATION:Sportplatz Dodendorf\, Sportplatz\, Sülzetal/Dodendorf\, Sachsen-Anhalt\, 39171
CATEGORIES:Vereinskalender
END:VEVENT
BEGIN:VEVENT
DTSTART;TZID=Europe/Berlin:20261015T180000
DTEND;TZID=Europe/Berlin:20261015T190000
DTSTAMP:20260421T212737
CREATED:20240124T074144Z
LAST-MODIFIED:20251227T161602Z
UID:3168-1792087200-1792090800@unser-dodendorf.de
SUMMARY:Tischtennis
DESCRIPTION:
URL:https://unser-dodendorf.de/veranstaltungen/tischtennis-41/
LOCATION:Sport- und Vereinsheim\, Sportplatz\, Dodendorf\, Sachsen-Anhalt\, 39171
CATEGORIES:Vereinskalender
END:VEVENT
BEGIN:VEVENT
DTSTART;VALUE=DATE:20261016
DTEND;VALUE=DATE:20261019
DTSTAMP:20260421T212737
CREATED:20240617T051022Z
LAST-MODIFIED:20260128T095500Z
UID:3478-1792108800-1792367999@unser-dodendorf.de
SUMMARY:Raumblocker Sportlerheim
DESCRIPTION:
URL:https://unser-dodendorf.de/veranstaltungen/raumblocker-sportlerheim-25/
LOCATION:Sport- und Vereinsheim\, Sportplatz\, Dodendorf\, Sachsen-Anhalt\, 39171
CATEGORIES:Vereinskalender
END:VEVENT
BEGIN:VEVENT
DTSTART;TZID=Europe/Berlin:20261016T180000
DTEND;TZID=Europe/Berlin:20261016T190000
DTSTAMP:20260421T212737
CREATED:20240121T190515Z
LAST-MODIFIED:20251227T163212Z
UID:3022-1792173600-1792177200@unser-dodendorf.de
SUMMARY:Kaninchenverein - Sitzung
DESCRIPTION:
URL:https://unser-dodendorf.de/veranstaltungen/kaninchenverein-sitzung-10/
LOCATION:Sportplatz Dodendorf\, Sportplatz\, Sülzetal/Dodendorf\, Sachsen-Anhalt\, 39171
CATEGORIES:Vereinskalender
END:VEVENT
BEGIN:VEVENT
DTSTART;TZID=Europe/Berlin:20261020T170000
DTEND;TZID=Europe/Berlin:20261020T190000
DTSTAMP:20260421T212737
CREATED:20240124T063334Z
LAST-MODIFIED:20251228T104830Z
UID:3120-1792515600-1792522800@unser-dodendorf.de
SUMMARY:Jugendtreff Dodendorf
DESCRIPTION:Altersgruppe 10-18 Jahren
URL:https://unser-dodendorf.de/veranstaltungen/jugendtreff-dodendorf-42/
LOCATION:Sport- und Vereinsheim\, Sportplatz\, Dodendorf\, Sachsen-Anhalt\, 39171
CATEGORIES:Vereinskalender
ORGANIZER;CN="Dodendorfer Heimatverein e.V.":MAILTO:heimatverein-dodendorf-ev@web.de
END:VEVENT
BEGIN:VEVENT
DTSTART;TZID=Europe/Berlin:20261022T140000
DTEND;TZID=Europe/Berlin:20261022T160000
DTSTAMP:20260421T212737
CREATED:20240124T073928Z
LAST-MODIFIED:20251227T155335Z
UID:3160-1792677600-1792684800@unser-dodendorf.de
SUMMARY:Kegeln
DESCRIPTION:
URL:https://unser-dodendorf.de/veranstaltungen/kegeln-42/
LOCATION:Sportplatz Dodendorf\, Sportplatz\, Sülzetal/Dodendorf\, Sachsen-Anhalt\, 39171
CATEGORIES:Vereinskalender
END:VEVENT
BEGIN:VEVENT
DTSTART;TZID=Europe/Berlin:20261022T180000
DTEND;TZID=Europe/Berlin:20261022T190000
DTSTAMP:20260421T212737
CREATED:20240124T074208Z
LAST-MODIFIED:20251227T161612Z
UID:3170-1792692000-1792695600@unser-dodendorf.de
SUMMARY:Tischtennis
DESCRIPTION:
URL:https://unser-dodendorf.de/veranstaltungen/tischtennis-42/
LOCATION:Sport- und Vereinsheim\, Sportplatz\, Dodendorf\, Sachsen-Anhalt\, 39171
CATEGORIES:Vereinskalender
END:VEVENT
BEGIN:VEVENT
DTSTART;VALUE=DATE:20261023
DTEND;VALUE=DATE:20261026
DTSTAMP:20260421T212737
CREATED:20240409T065520Z
LAST-MODIFIED:20260128T095521Z
UID:3421-1792713600-1792972799@unser-dodendorf.de
SUMMARY:Raumblocker Sportlerheim
DESCRIPTION:
URL:https://unser-dodendorf.de/veranstaltungen/raumblocker-sportlerheim-9/
LOCATION:Sport- und Vereinsheim\, Sportplatz\, Dodendorf\, Sachsen-Anhalt\, 39171
CATEGORIES:Vereinskalender
END:VEVENT
BEGIN:VEVENT
DTSTART;TZID=Europe/Berlin:20261027T170000
DTEND;TZID=Europe/Berlin:20261027T190000
DTSTAMP:20260421T212737
CREATED:20240124T063412Z
LAST-MODIFIED:20251228T104820Z
UID:3122-1793120400-1793127600@unser-dodendorf.de
SUMMARY:Jugendtreff Dodendorf
DESCRIPTION:Altersgruppe 10-18 Jahren
URL:https://unser-dodendorf.de/veranstaltungen/jugendtreff-dodendorf-43/
LOCATION:Sport- und Vereinsheim\, Sportplatz\, Dodendorf\, Sachsen-Anhalt\, 39171
CATEGORIES:Vereinskalender
ORGANIZER;CN="Dodendorfer Heimatverein e.V.":MAILTO:heimatverein-dodendorf-ev@web.de
END:VEVENT
BEGIN:VEVENT
DTSTART;TZID=Europe/Berlin:20261029T140000
DTEND;TZID=Europe/Berlin:20261029T160000
DTSTAMP:20260421T212737
CREATED:20240124T073953Z
LAST-MODIFIED:20251227T155346Z
UID:3162-1793282400-1793289600@unser-dodendorf.de
SUMMARY:Kegeln
DESCRIPTION:
URL:https://unser-dodendorf.de/veranstaltungen/kegeln-43/
LOCATION:Sportplatz Dodendorf\, Sportplatz\, Sülzetal/Dodendorf\, Sachsen-Anhalt\, 39171
CATEGORIES:Vereinskalender
END:VEVENT
BEGIN:VEVENT
DTSTART;TZID=Europe/Berlin:20261029T180000
DTEND;TZID=Europe/Berlin:20261029T190000
DTSTAMP:20260421T212737
CREATED:20240124T074242Z
LAST-MODIFIED:20251227T161623Z
UID:3172-1793296800-1793300400@unser-dodendorf.de
SUMMARY:Tischtennis
DESCRIPTION:
URL:https://unser-dodendorf.de/veranstaltungen/tischtennis-43/
LOCATION:Sport- und Vereinsheim\, Sportplatz\, Dodendorf\, Sachsen-Anhalt\, 39171
CATEGORIES:Vereinskalender
END:VEVENT
BEGIN:VEVENT
DTSTART;TZID=Europe/Berlin:20261031T130000
DTEND;TZID=Europe/Berlin:20261031T180000
DTSTAMP:20260421T212737
CREATED:20231128T101813Z
LAST-MODIFIED:20260128T101235Z
UID:2368-1793451600-1793469600@unser-dodendorf.de
SUMMARY:Kinder-Halloween
DESCRIPTION:
URL:https://unser-dodendorf.de/veranstaltungen/kinder-halloween/
LOCATION:Lohe´s Scheune\, Lange Sülldorfer Straße 6\, Sülzetal/Dodendorf\, Sachsen-Anhalt\, 39171\, Germany
CATEGORIES:Veranstaltungen
END:VEVENT
END:VCALENDAR